BEGIN:VCALENDAR
VERSION:2.0
PRODID:-//Scituate Visitors Center - ECPv6.15.18//NONSGML v1.0//EN
CALSCALE:GREGORIAN
METHOD:PUBLISH
X-WR-CALNAME:Scituate Visitors Center
X-ORIGINAL-URL:https://scituatevisitorscenter.com
X-WR-CALDESC:Events for Scituate Visitors Center
REFRESH-INTERVAL;VALUE=DURATION:PT1H
X-Robots-Tag:noindex
X-PUBLISHED-TTL:PT1H
BEGIN:VTIMEZONE
TZID:America/New_York
BEGIN:DAYLIGHT
TZOFFSETFROM:-0500
TZOFFSETTO:-0400
TZNAME:EDT
DTSTART:20230312T070000
END:DAYLIGHT
BEGIN:STANDARD
TZOFFSETFROM:-0400
TZOFFSETTO:-0500
TZNAME:EST
DTSTART:20231105T060000
END:STANDARD
BEGIN:DAYLIGHT
TZOFFSETFROM:-0500
TZOFFSETTO:-0400
TZNAME:EDT
DTSTART:20240310T070000
END:DAYLIGHT
BEGIN:STANDARD
TZOFFSETFROM:-0400
TZOFFSETTO:-0500
TZNAME:EST
DTSTART:20241103T060000
END:STANDARD
BEGIN:DAYLIGHT
TZOFFSETFROM:-0500
TZOFFSETTO:-0400
TZNAME:EDT
DTSTART:20250309T070000
END:DAYLIGHT
BEGIN:STANDARD
TZOFFSETFROM:-0400
TZOFFSETTO:-0500
TZNAME:EST
DTSTART:20251102T060000
END:STANDARD
END:VTIMEZONE
BEGIN:VEVENT
DTSTART;TZID=America/New_York:20240510T090000
DTEND;TZID=America/New_York:20240524T170000
DTSTAMP:20260422T073353
CREATED:20240509T171301Z
LAST-MODIFIED:20240509T171301Z
UID:5733-1715331600-1716570000@scituatevisitorscenter.com
SUMMARY:3rd Annual Scituate Town Library Art Auction
DESCRIPTION:The Friends of Scituate Town Library invite you to participate in this year’s art auction. Beginning May 10th and ending May 24th\, the auction features twenty-two local artists who have generously donated their artwork for this event. Proceeds from the silent auction will support the family-friendly Summer Concert Series held throughout July. \nBidding is online at www.32auctions.com/Friends24.  Artwork is on display on the website and also in person at the Library.
URL:https://scituatevisitorscenter.com/event/3rd-annual-scituate-town-library-art-auction/
LOCATION:Town of Scituate Library\, 85 Branch Street\, Scituate\, MA\, 02066\, United States
CATEGORIES:Art,Fundraisers
ATTACH;FMTTYPE=image/jpeg:https://scituatevisitorscenter.com/wp-content/uploads/2024/05/proxy.jpeg
END:VEVENT
BEGIN:VEVENT
DTSTART;TZID=America/New_York:20240518T090000
DTEND;TZID=America/New_York:20240518T120000
DTSTAMP:20260422T073353
CREATED:20240510T133814Z
LAST-MODIFIED:20240510T133814Z
UID:5746-1716022800-1716033600@scituatevisitorscenter.com
SUMMARY:Annual Mann Farm House Plant Sale
DESCRIPTION:You don’t want to miss this!  More than 2\,000 plants will be for sale at this historic site. Pick up something special for your house and\, while you’re there\, tour the magnificent wildflower garden. Sponsored by the Scituate Garden Club.
URL:https://scituatevisitorscenter.com/event/annual-mann-farm-house-plant-sale/
LOCATION:Mann Farm House and Wildflower Gardens\, 108 Greenfield Lane\, Scituate\, MA\, 02066\, United States
CATEGORIES:Community,Gardening,Historical,Shopping
END:VEVENT
BEGIN:VEVENT
DTSTART;TZID=America/New_York:20240518T090000
DTEND;TZID=America/New_York:20240518T160000
DTSTAMP:20260422T073353
CREATED:20240228T155001Z
LAST-MODIFIED:20240228T155001Z
UID:5397-1716022800-1716048000@scituatevisitorscenter.com
SUMMARY:Scituate Annual Town Elections
DESCRIPTION:Come to the Scituate High School gym to cast your ballot for local town leadership!  On the ballot will be the following positions: \nSelect Board member \nPlanning Board member and alternate \nTown Moderator \nTown Clerk \nSchool Committee member \nBoard of Assessors \nLibrary Board of Trustees \n  \nAll the information about running for these positions\, how to vote\, and what the positions do\, can be found on the town website.
URL:https://scituatevisitorscenter.com/event/scituate-annual-town-elections/
LOCATION:Scituate High School Gymnasium\, 606 C J Cushing Hwy\, Scituate\, MA\, 02066\, United States
CATEGORIES:Civics
END:VEVENT
BEGIN:VEVENT
DTSTART;TZID=America/New_York:20240518T140000
DTEND;TZID=America/New_York:20240518T180000
DTSTAMP:20260422T073353
CREATED:20240414T203819Z
LAST-MODIFIED:20240414T203819Z
UID:5640-1716040800-1716055200@scituatevisitorscenter.com
SUMMARY:Board 143 4th Annual Spring Fling
DESCRIPTION:Come down to North Scituate for a blast of an afternoon. Beer tastings\, taco and donut (and more!) food trucks\, LIVE MUSIC\, and lots of surprises. See you there! Free ample parking across the street.
URL:https://scituatevisitorscenter.com/event/board-143-4th-annual-spring-fling/
LOCATION:Board 143\, 776 Country Way\, Scituate\, MA\, 02066
CATEGORIES:Artisans,Entertainment,Food Trucks
ATTACH;FMTTYPE=image/jpeg:https://scituatevisitorscenter.com/wp-content/uploads/2024/04/436196338_18183228787290615_5799667905130270051_n.jpg
END:VEVENT
BEGIN:VEVENT
DTSTART;TZID=America/New_York:20240518T140000
DTEND;TZID=America/New_York:20240518T180000
DTSTAMP:20260422T073353
CREATED:20240513T181534Z
LAST-MODIFIED:20240513T181534Z
UID:5759-1716040800-1716055200@scituatevisitorscenter.com
SUMMARY:4th Annual Spring Fling
DESCRIPTION:Join Board143 as they celebrate 4 years in North Scituate. Trillium and Untold Breweries will be featured in this family friendly event. Loco Larry’s Taco Truck\, Hardley Saints Donut Truck\, and pop-up jewelry\, granola and other goodies. Live Music with NateWatkins and Friends.
URL:https://scituatevisitorscenter.com/event/4th-annual-spring-fling/
LOCATION:Board 143\, 776 Country Way\, Scituate\, MA\, 02066
CATEGORIES:Community,Fairs/Festivals,Family,Food Trucks,Live Music,Shopping
END:VEVENT
END:VCALENDAR