BEGIN:VCALENDAR
VERSION:2.0
PRODID:-//Scituate Visitors Center - ECPv6.15.18//NONSGML v1.0//EN
CALSCALE:GREGORIAN
METHOD:PUBLISH
X-WR-CALNAME:Scituate Visitors Center
X-ORIGINAL-URL:https://scituatevisitorscenter.com
X-WR-CALDESC:Events for Scituate Visitors Center
REFRESH-INTERVAL;VALUE=DURATION:PT1H
X-Robots-Tag:noindex
X-PUBLISHED-TTL:PT1H
BEGIN:VTIMEZONE
TZID:America/New_York
BEGIN:DAYLIGHT
TZOFFSETFROM:-0500
TZOFFSETTO:-0400
TZNAME:EDT
DTSTART:20230312T070000
END:DAYLIGHT
BEGIN:STANDARD
TZOFFSETFROM:-0400
TZOFFSETTO:-0500
TZNAME:EST
DTSTART:20231105T060000
END:STANDARD
BEGIN:DAYLIGHT
TZOFFSETFROM:-0500
TZOFFSETTO:-0400
TZNAME:EDT
DTSTART:20240310T070000
END:DAYLIGHT
BEGIN:STANDARD
TZOFFSETFROM:-0400
TZOFFSETTO:-0500
TZNAME:EST
DTSTART:20241103T060000
END:STANDARD
BEGIN:DAYLIGHT
TZOFFSETFROM:-0500
TZOFFSETTO:-0400
TZNAME:EDT
DTSTART:20250309T070000
END:DAYLIGHT
BEGIN:STANDARD
TZOFFSETFROM:-0400
TZOFFSETTO:-0500
TZNAME:EST
DTSTART:20251102T060000
END:STANDARD
END:VTIMEZONE
BEGIN:VEVENT
DTSTART;TZID=America/New_York:20240525T090000
DTEND;TZID=America/New_York:20240525T120000
DTSTAMP:20260422T073525
CREATED:20240509T171550Z
LAST-MODIFIED:20240509T171550Z
UID:5737-1716627600-1716638400@scituatevisitorscenter.com
SUMMARY:Introduction to Wood Carving
DESCRIPTION:Craft your own palm-sized comfort bird – a beautiful symbol of peace and solace. This three hour class offers a building block for exploring this rewarding hobby. Limited to six students and costs $165! Held at Untold Brewery and registration is required.
URL:https://scituatevisitorscenter.com/event/introduction-to-wood-carving/
LOCATION:Untold Brewing\, 6 Old Country Way\, Scituate\, 02066
CATEGORIES:Artisans,Crafts,Educational
ORGANIZER;CN="Untold Brewing":MAILTO:info@untoldbrewing.com
END:VEVENT
END:VCALENDAR