BEGIN:VCALENDAR
VERSION:2.0
PRODID:-//Scituate Visitors Center - ECPv6.15.18//NONSGML v1.0//EN
CALSCALE:GREGORIAN
METHOD:PUBLISH
X-WR-CALNAME:Scituate Visitors Center
X-ORIGINAL-URL:https://scituatevisitorscenter.com
X-WR-CALDESC:Events for Scituate Visitors Center
REFRESH-INTERVAL;VALUE=DURATION:PT1H
X-Robots-Tag:noindex
X-PUBLISHED-TTL:PT1H
BEGIN:VTIMEZONE
TZID:America/New_York
BEGIN:DAYLIGHT
TZOFFSETFROM:-0500
TZOFFSETTO:-0400
TZNAME:EDT
DTSTART:20230312T070000
END:DAYLIGHT
BEGIN:STANDARD
TZOFFSETFROM:-0400
TZOFFSETTO:-0500
TZNAME:EST
DTSTART:20231105T060000
END:STANDARD
BEGIN:DAYLIGHT
TZOFFSETFROM:-0500
TZOFFSETTO:-0400
TZNAME:EDT
DTSTART:20240310T070000
END:DAYLIGHT
BEGIN:STANDARD
TZOFFSETFROM:-0400
TZOFFSETTO:-0500
TZNAME:EST
DTSTART:20241103T060000
END:STANDARD
BEGIN:DAYLIGHT
TZOFFSETFROM:-0500
TZOFFSETTO:-0400
TZNAME:EDT
DTSTART:20250309T070000
END:DAYLIGHT
BEGIN:STANDARD
TZOFFSETFROM:-0400
TZOFFSETTO:-0500
TZNAME:EST
DTSTART:20251102T060000
END:STANDARD
END:VTIMEZONE
BEGIN:VEVENT
DTSTART;TZID=America/New_York:20240705T100000
DTEND;TZID=America/New_York:20240706T230000
DTSTAMP:20260422T115053
CREATED:20240625T211129Z
LAST-MODIFIED:20240625T211129Z
UID:5921-1720173600-1720306800@scituatevisitorscenter.com
SUMMARY:Levitate Music and Arts Festival
DESCRIPTION:We know it’s in Marshfield\, but half of Scituate will be there! Check out the Levitate website for details and tickets
URL:https://scituatevisitorscenter.com/event/levitate-music-and-arts-festival/
LOCATION:Scituate\, MA\, Scituate\, MA\, 02066
CATEGORIES:Entertainment,Live Music
END:VEVENT
BEGIN:VEVENT
DTSTART;TZID=America/New_York:20240705T170000
DTEND;TZID=America/New_York:20240705T190000
DTSTAMP:20260422T115053
CREATED:20240705T183953Z
LAST-MODIFIED:20240705T183953Z
UID:5957-1720198800-1720206000@scituatevisitorscenter.com
SUMMARY:First Friday Open Studio: Kukstis Woodcarving
DESCRIPTION:Join Paul Kukstis and his band of merry carvers during First Friday tonight. Stop by the studio for more info
URL:https://scituatevisitorscenter.com/event/first-friday-open-studio-kukstis-woodcarving/
LOCATION:Kukstis Woodcarving\, 165 Front Street\, Scituate\, 02066\, United States
CATEGORIES:Artisans,Community,Crafts,Educational,Entertainment
ORGANIZER;CN="Kukstis Woodworking":MAILTO:paul@kukstis.com
END:VEVENT
BEGIN:VEVENT
DTSTART;TZID=America/New_York:20240705T180000
DTEND;TZID=America/New_York:20240705T200000
DTSTAMP:20260422T115053
CREATED:20240410T205652Z
LAST-MODIFIED:20240410T205652Z
UID:5810-1720202400-1720209600@scituatevisitorscenter.com
SUMMARY:First Friday Scituate Harbor Bandstand Concert
DESCRIPTION:Grab a lawn chair and your dancing shoes and come to Cole Parkway Bandstand for a fun family event. Stroll through the Harbor and enjoy the stores late openings before heading over for a fantastic evening under the stars!
URL:https://scituatevisitorscenter.com/event/scituate-harbor-bandstand-concert/2024-07-05/
LOCATION:Scituate Harbor Gazebo\, Cole Pkwy\, Scituate\, MA\, 02066\, United States
CATEGORIES:Entertainment,Family,Live Music
ATTACH;FMTTYPE=image/jpeg:https://scituatevisitorscenter.com/wp-content/uploads/2024/04/Unknown-4.jpeg
END:VEVENT
BEGIN:VEVENT
DTSTART;TZID=America/New_York:20240705T180000
DTEND;TZID=America/New_York:20240705T220000
DTSTAMP:20260422T115053
CREATED:20240607T160514Z
LAST-MODIFIED:20240607T160514Z
UID:5847-1720202400-1720216800@scituatevisitorscenter.com
SUMMARY:Cape Verdean Independence Day Celebration
DESCRIPTION:Join the Santa Catarina do Fogo Sister City Committee as they host the 2nd Annual Cape Verde Independence Day Celebration. The evening is a must-not-miss family fun event with live music\, delicious food\, and a chance to learn more about Scituate’s relationship with Cape Verde and the history of Cape Verde.
URL:https://scituatevisitorscenter.com/event/cape-verdean-independence-day-celebration/
LOCATION:Harbor Community Building (Pier 44)\, Scituate\, MA\, 02066
CATEGORIES:Community,Cultural,Educational,Family,Holiday,Live Music
END:VEVENT
BEGIN:VEVENT
DTSTART;TZID=America/New_York:20240705T193000
DTEND;TZID=America/New_York:20240705T210000
DTSTAMP:20260422T115053
CREATED:20240618T144439Z
LAST-MODIFIED:20240618T144439Z
UID:5890-1720207800-1720213200@scituatevisitorscenter.com
SUMMARY:Satuit Concert Band Performance
DESCRIPTION:Join Music Director Charles A. Shaffer for an evening of wonderful live music.
URL:https://scituatevisitorscenter.com/event/satuit-concert-band-performance-2/
LOCATION:St. Mary’s Church\, 1 Kent Street\, Scituate\, Massachusetts\, 02066
CATEGORIES:Cultural,Family,Live Music
END:VEVENT
END:VCALENDAR