BEGIN:VCALENDAR
VERSION:2.0
PRODID:-//Scituate Visitors Center - ECPv6.15.18//NONSGML v1.0//EN
CALSCALE:GREGORIAN
METHOD:PUBLISH
X-WR-CALNAME:Scituate Visitors Center
X-ORIGINAL-URL:https://scituatevisitorscenter.com
X-WR-CALDESC:Events for Scituate Visitors Center
REFRESH-INTERVAL;VALUE=DURATION:PT1H
X-Robots-Tag:noindex
X-PUBLISHED-TTL:PT1H
BEGIN:VTIMEZONE
TZID:America/New_York
BEGIN:DAYLIGHT
TZOFFSETFROM:-0500
TZOFFSETTO:-0400
TZNAME:EDT
DTSTART:20230312T070000
END:DAYLIGHT
BEGIN:STANDARD
TZOFFSETFROM:-0400
TZOFFSETTO:-0500
TZNAME:EST
DTSTART:20231105T060000
END:STANDARD
BEGIN:DAYLIGHT
TZOFFSETFROM:-0500
TZOFFSETTO:-0400
TZNAME:EDT
DTSTART:20240310T070000
END:DAYLIGHT
BEGIN:STANDARD
TZOFFSETFROM:-0400
TZOFFSETTO:-0500
TZNAME:EST
DTSTART:20241103T060000
END:STANDARD
BEGIN:DAYLIGHT
TZOFFSETFROM:-0500
TZOFFSETTO:-0400
TZNAME:EDT
DTSTART:20250309T070000
END:DAYLIGHT
BEGIN:STANDARD
TZOFFSETFROM:-0400
TZOFFSETTO:-0500
TZNAME:EST
DTSTART:20251102T060000
END:STANDARD
END:VTIMEZONE
BEGIN:VEVENT
DTSTART;TZID=America/New_York:20240709T160000
DTEND;TZID=America/New_York:20240709T170000
DTSTAMP:20260422T115217
CREATED:20240625T205422Z
LAST-MODIFIED:20240625T205422Z
UID:5914-1720540800-1720544400@scituatevisitorscenter.com
SUMMARY:Scituate Town Library New Exhibit Unveiling
DESCRIPTION:Join the Scituate Library Trustees\, Library Foundation\, Veteran’s Advisory Council\, Select Board\, and Library Staff for a program and unveiling of the newest permanent exhibit. The Local History Room will house a Navy Paddle created in honor of Scituate Veteran LTFG John P. Connors who died in service in Panama during Operation Just Cause. The paddle was donated to the Town by supporters of the proposed memorial statue currently being designed for Lawson Green. The event will feature a program of speakers including Town and State officials\, veterans and statue organizers. Honored guests include LTFG Connors family members. Please RSVP to nicolematthews2022@gmail.com\, if attending.
URL:https://scituatevisitorscenter.com/event/scituate-town-library-new-exhibit-unveiling/
LOCATION:Town of Scituate Library\, 85 Branch Street\, Scituate\, MA\, 02066\, United States
CATEGORIES:Civics,Educational,Historical
END:VEVENT
BEGIN:VEVENT
DTSTART;TZID=America/New_York:20240709T170000
DTEND;TZID=America/New_York:20240709T220000
DTSTAMP:20260422T115217
CREATED:20240603T145006Z
LAST-MODIFIED:20240625T211958Z
UID:5814-1720544400-1720562400@scituatevisitorscenter.com
SUMMARY:Annual Knights of Columbus Carnival
DESCRIPTION:This year’s event will start a bit earlier to accommodate more young residents in the fun. Check out the Knights of Columbus website for more information. This annual event includes rides\, games\, and food for the whole family. PLUS FIREWORKS!
URL:https://scituatevisitorscenter.com/event/annual-knights-of-columbus-carnival/2024-07-09/
LOCATION:Cole Parkway\, Cole Pkwy\, Scituate\, MA\, 02066\, United States
CATEGORIES:Community,Entertainment,Fairs/Festivals,Family,Food Trucks,Fundraisers
END:VEVENT
END:VCALENDAR