BEGIN:VCALENDAR
VERSION:2.0
PRODID:-//Scituate Visitors Center - ECPv6.15.18//NONSGML v1.0//EN
CALSCALE:GREGORIAN
METHOD:PUBLISH
X-WR-CALNAME:Scituate Visitors Center
X-ORIGINAL-URL:https://scituatevisitorscenter.com
X-WR-CALDESC:Events for Scituate Visitors Center
REFRESH-INTERVAL;VALUE=DURATION:PT1H
X-Robots-Tag:noindex
X-PUBLISHED-TTL:PT1H
BEGIN:VTIMEZONE
TZID:America/New_York
BEGIN:DAYLIGHT
TZOFFSETFROM:-0500
TZOFFSETTO:-0400
TZNAME:EDT
DTSTART:20230312T070000
END:DAYLIGHT
BEGIN:STANDARD
TZOFFSETFROM:-0400
TZOFFSETTO:-0500
TZNAME:EST
DTSTART:20231105T060000
END:STANDARD
BEGIN:DAYLIGHT
TZOFFSETFROM:-0500
TZOFFSETTO:-0400
TZNAME:EDT
DTSTART:20240310T070000
END:DAYLIGHT
BEGIN:STANDARD
TZOFFSETFROM:-0400
TZOFFSETTO:-0500
TZNAME:EST
DTSTART:20241103T060000
END:STANDARD
BEGIN:DAYLIGHT
TZOFFSETFROM:-0500
TZOFFSETTO:-0400
TZNAME:EDT
DTSTART:20250309T070000
END:DAYLIGHT
BEGIN:STANDARD
TZOFFSETFROM:-0400
TZOFFSETTO:-0500
TZNAME:EST
DTSTART:20251102T060000
END:STANDARD
END:VTIMEZONE
BEGIN:VEVENT
DTSTART;TZID=America/New_York:20240710T170000
DTEND;TZID=America/New_York:20240710T220000
DTSTAMP:20260422T115109
CREATED:20240603T145006Z
LAST-MODIFIED:20240603T145006Z
UID:5927-1720630800-1720648800@scituatevisitorscenter.com
SUMMARY:Annual Knights of Columbus Carnival
DESCRIPTION:This year’s event will start a bit earlier to accommodate more young residents in the fun. Check out the Knights of Columbus website for more information. This annual event includes rides\, games\, and food for the whole family. PLUS FIREWORKS!
URL:https://scituatevisitorscenter.com/event/annual-knights-of-columbus-carnival/2024-07-10/
LOCATION:Cole Parkway\, Cole Pkwy\, Scituate\, MA\, 02066\, United States
CATEGORIES:Community,Entertainment,Fairs/Festivals,Family,Food Trucks,Fundraisers
END:VEVENT
BEGIN:VEVENT
DTSTART;TZID=America/New_York:20240710T183000
DTEND;TZID=America/New_York:20240710T193000
DTSTAMP:20260422T115109
CREATED:20240706T183652Z
LAST-MODIFIED:20240706T183652Z
UID:5967-1720636200-1720639800@scituatevisitorscenter.com
SUMMARY:5th Annual Summer Concert Series at the Library: Odaiko New England (Taiko Japanese Drumming Group)
DESCRIPTION:Bring a lawn chair and the kids to the beautiful Scituate Town Library garden for an evening of cultural enrichment and wonderful entertainment. If it rains\, the fun moves inside. Tonight will feature Adaiko New England.  Sponsored by the Friends of the Scituate Library and their generous donors\, including King Jewelers and Bay State Book Company\, Driftway General Store\, Scituate Cultural Council\, MountainOne Bank\, and Scituate Family Dental.  A wonderful event and free to everyone.
URL:https://scituatevisitorscenter.com/event/5th-annual-summer-concert-series-at-the-library-odaiko-new-england-taiko-japanese-drumming-group/
LOCATION:Town of Scituate Library\, 85 Branch Street\, Scituate\, MA\, 02066\, United States
CATEGORIES:Cultural,Educational,Entertainment,Family,Live Music
END:VEVENT
END:VCALENDAR