BEGIN:VCALENDAR
VERSION:2.0
PRODID:-//Scituate Visitors Center - ECPv6.15.18//NONSGML v1.0//EN
CALSCALE:GREGORIAN
METHOD:PUBLISH
X-WR-CALNAME:Scituate Visitors Center
X-ORIGINAL-URL:https://scituatevisitorscenter.com
X-WR-CALDESC:Events for Scituate Visitors Center
REFRESH-INTERVAL;VALUE=DURATION:PT1H
X-Robots-Tag:noindex
X-PUBLISHED-TTL:PT1H
BEGIN:VTIMEZONE
TZID:America/New_York
BEGIN:DAYLIGHT
TZOFFSETFROM:-0500
TZOFFSETTO:-0400
TZNAME:EDT
DTSTART:20230312T070000
END:DAYLIGHT
BEGIN:STANDARD
TZOFFSETFROM:-0400
TZOFFSETTO:-0500
TZNAME:EST
DTSTART:20231105T060000
END:STANDARD
BEGIN:DAYLIGHT
TZOFFSETFROM:-0500
TZOFFSETTO:-0400
TZNAME:EDT
DTSTART:20240310T070000
END:DAYLIGHT
BEGIN:STANDARD
TZOFFSETFROM:-0400
TZOFFSETTO:-0500
TZNAME:EST
DTSTART:20241103T060000
END:STANDARD
BEGIN:DAYLIGHT
TZOFFSETFROM:-0500
TZOFFSETTO:-0400
TZNAME:EDT
DTSTART:20250309T070000
END:DAYLIGHT
BEGIN:STANDARD
TZOFFSETFROM:-0400
TZOFFSETTO:-0500
TZNAME:EST
DTSTART:20251102T060000
END:STANDARD
END:VTIMEZONE
BEGIN:VEVENT
DTSTART;TZID=America/New_York:20240711T170000
DTEND;TZID=America/New_York:20240711T220000
DTSTAMP:20260422T115129
CREATED:20240603T145006Z
LAST-MODIFIED:20240603T145006Z
UID:5928-1720717200-1720735200@scituatevisitorscenter.com
SUMMARY:Annual Knights of Columbus Carnival
DESCRIPTION:This year’s event will start a bit earlier to accommodate more young residents in the fun. Check out the Knights of Columbus website for more information. This annual event includes rides\, games\, and food for the whole family. PLUS FIREWORKS!
URL:https://scituatevisitorscenter.com/event/annual-knights-of-columbus-carnival/2024-07-11/
LOCATION:Cole Parkway\, Cole Pkwy\, Scituate\, MA\, 02066\, United States
CATEGORIES:Community,Entertainment,Fairs/Festivals,Family,Food Trucks,Fundraisers
END:VEVENT
END:VCALENDAR