BEGIN:VCALENDAR
VERSION:2.0
PRODID:-//Scituate Visitors Center - ECPv6.15.18//NONSGML v1.0//EN
CALSCALE:GREGORIAN
METHOD:PUBLISH
X-WR-CALNAME:Scituate Visitors Center
X-ORIGINAL-URL:https://scituatevisitorscenter.com
X-WR-CALDESC:Events for Scituate Visitors Center
REFRESH-INTERVAL;VALUE=DURATION:PT1H
X-Robots-Tag:noindex
X-PUBLISHED-TTL:PT1H
BEGIN:VTIMEZONE
TZID:America/New_York
BEGIN:DAYLIGHT
TZOFFSETFROM:-0500
TZOFFSETTO:-0400
TZNAME:EDT
DTSTART:20230312T070000
END:DAYLIGHT
BEGIN:STANDARD
TZOFFSETFROM:-0400
TZOFFSETTO:-0500
TZNAME:EST
DTSTART:20231105T060000
END:STANDARD
BEGIN:DAYLIGHT
TZOFFSETFROM:-0500
TZOFFSETTO:-0400
TZNAME:EDT
DTSTART:20240310T070000
END:DAYLIGHT
BEGIN:STANDARD
TZOFFSETFROM:-0400
TZOFFSETTO:-0500
TZNAME:EST
DTSTART:20241103T060000
END:STANDARD
BEGIN:DAYLIGHT
TZOFFSETFROM:-0500
TZOFFSETTO:-0400
TZNAME:EDT
DTSTART:20250309T070000
END:DAYLIGHT
BEGIN:STANDARD
TZOFFSETFROM:-0400
TZOFFSETTO:-0500
TZNAME:EST
DTSTART:20251102T060000
END:STANDARD
END:VTIMEZONE
BEGIN:VEVENT
DTSTART;VALUE=DATE:20240801
DTEND;VALUE=DATE:20240802
DTSTAMP:20260422T115130
CREATED:20240723T185547Z
LAST-MODIFIED:20240723T185547Z
UID:6036-1722470400-1722556799@scituatevisitorscenter.com
SUMMARY:South Shore Irish Heritage Trail Photo Contest
DESCRIPTION:Amateur photographers take note! The South Shore Irish Heritage Trail\, along with their friends at the Scituate Sister Cities Project\, will be launching a photography contest. The finalists will be displayed at a gallery event at South Shore Arts Center. Details will be coming soon!
URL:https://scituatevisitorscenter.com/event/south-shore-irish-heritage-trail-photo-contest/
LOCATION:Scituate\, MA\, Scituate\, MA\, 02066
CATEGORIES:Artisans,Cultural,Photography
ATTACH;FMTTYPE=image/jpeg:https://scituatevisitorscenter.com/wp-content/uploads/2024/07/beach.jpg
END:VEVENT
END:VCALENDAR