BEGIN:VCALENDAR
VERSION:2.0
PRODID:-//Scituate Visitors Center - ECPv6.15.18//NONSGML v1.0//EN
CALSCALE:GREGORIAN
METHOD:PUBLISH
X-WR-CALNAME:Scituate Visitors Center
X-ORIGINAL-URL:https://scituatevisitorscenter.com
X-WR-CALDESC:Events for Scituate Visitors Center
REFRESH-INTERVAL;VALUE=DURATION:PT1H
X-Robots-Tag:noindex
X-PUBLISHED-TTL:PT1H
BEGIN:VTIMEZONE
TZID:America/New_York
BEGIN:DAYLIGHT
TZOFFSETFROM:-0500
TZOFFSETTO:-0400
TZNAME:EDT
DTSTART:20230312T070000
END:DAYLIGHT
BEGIN:STANDARD
TZOFFSETFROM:-0400
TZOFFSETTO:-0500
TZNAME:EST
DTSTART:20231105T060000
END:STANDARD
BEGIN:DAYLIGHT
TZOFFSETFROM:-0500
TZOFFSETTO:-0400
TZNAME:EDT
DTSTART:20240310T070000
END:DAYLIGHT
BEGIN:STANDARD
TZOFFSETFROM:-0400
TZOFFSETTO:-0500
TZNAME:EST
DTSTART:20241103T060000
END:STANDARD
BEGIN:DAYLIGHT
TZOFFSETFROM:-0500
TZOFFSETTO:-0400
TZNAME:EDT
DTSTART:20250309T070000
END:DAYLIGHT
BEGIN:STANDARD
TZOFFSETFROM:-0400
TZOFFSETTO:-0500
TZNAME:EST
DTSTART:20251102T060000
END:STANDARD
END:VTIMEZONE
BEGIN:VEVENT
DTSTART;TZID=America/New_York:20240803T073000
DTEND;TZID=America/New_York:20240803T110000
DTSTAMP:20260422T115218
CREATED:20240723T190432Z
LAST-MODIFIED:20240723T192402Z
UID:6042-1722670200-1722682800@scituatevisitorscenter.com
SUMMARY:Rotary Club 51st Annual Pancake Breakfast
DESCRIPTION:Enjoy your choice of chocolate chip or blueberry pancakes at this family-friendly annual event. Also available are sausages\, coffee\, tea and juice. Tickets are available at the door or in advance. A great way to start the day and fuel up for Heritage Days fun. Adults $9\, Children $5\, Children under 5\, free\, Families $22
URL:https://scituatevisitorscenter.com/event/rotary-club-51st-annual-pancake-breakfast/
LOCATION:Scituate Senior Center\, 333 First Parish Rd\, Scituate\, MA\, 02066
CATEGORIES:Community,Dining,Family,Heritage Days
ATTACH;FMTTYPE=image/jpeg:https://scituatevisitorscenter.com/wp-content/uploads/2024/07/61BrlhLRs5L._AC_SL1155_.jpg
END:VEVENT
BEGIN:VEVENT
DTSTART;TZID=America/New_York:20240803T080000
DTEND;TZID=America/New_York:20240803T090000
DTSTAMP:20260422T115218
CREATED:20240731T214209Z
LAST-MODIFIED:20240731T214209Z
UID:6075-1722672000-1722675600@scituatevisitorscenter.com
SUMMARY:Beach Yoga
DESCRIPTION:Join yogi Jen Murphy on Minot Beach for a morning yoga flow. Bring your beach towel or mat. Payment via venmo or cash on site. No registration needed.
URL:https://scituatevisitorscenter.com/event/beach-yoga/
LOCATION:Scituate\, MA\, Scituate\, MA\, 02066
CATEGORIES:Beach,Community,Spirituality,Sports
ORGANIZER;CN="Jen Murphy Yoga":MAILTO:www.jenmurphyyoga.com
END:VEVENT
BEGIN:VEVENT
DTSTART;TZID=America/New_York:20240803T090000
DTEND;TZID=America/New_York:20240804T210000
DTSTAMP:20260422T115218
CREATED:20240625T210222Z
LAST-MODIFIED:20240625T210222Z
UID:5916-1722675600-1722805200@scituatevisitorscenter.com
SUMMARY:55th Annual Heritage Days
DESCRIPTION:Joni the Scituate Chamber of Commerce for this annual weekend event filled with music\, food\, artisans\, beer garden\, boat races\, kids amusement rides and so much more.
URL:https://scituatevisitorscenter.com/event/55th-annual-heritage-days/
LOCATION:Cole Parkway\, Cole Pkwy\, Scituate\, MA\, 02066\, United States
CATEGORIES:Cultural,Entertainment,Family,Food Trucks,Heritage Days,Live Music
ATTACH;FMTTYPE=image/jpeg:https://scituatevisitorscenter.com/wp-content/uploads/2024/06/449144010_876452454525036_1957213985283516221_n.jpg
ORGANIZER;CN="Scituate Chamber of Commerce":MAILTO:info@scituatechamber.org
END:VEVENT
BEGIN:VEVENT
DTSTART;TZID=America/New_York:20240803T130000
DTEND;TZID=America/New_York:20240803T160000
DTSTAMP:20260422T115218
CREATED:20240712T175624Z
LAST-MODIFIED:20240712T175624Z
UID:6003-1722690000-1722700800@scituatevisitorscenter.com
SUMMARY:Scituate Historical Locations Open
DESCRIPTION:Join the Scituate Historical Society at locations throughout Scituate and get a glimpse of the Town’s history. Volunteers will be on hand to provide tours and amazing insight at all locations. Details on the website.
URL:https://scituatevisitorscenter.com/event/scituate-historical-locations-open/
LOCATION:Scituate Lawson Tower\, 330 FIrst Parish Road\, Scituate\, MA\, 02066
CATEGORIES:Community,Cultural,Educational,Entertainment,Family,Heritage Days,Historical
ORGANIZER;CN="Scituate Historical Society":MAILTO:info@scituatehistoricalsociety.org
END:VEVENT
END:VCALENDAR