BEGIN:VCALENDAR
VERSION:2.0
PRODID:-//Scituate Visitors Center - ECPv6.15.18//NONSGML v1.0//EN
CALSCALE:GREGORIAN
METHOD:PUBLISH
X-WR-CALNAME:Scituate Visitors Center
X-ORIGINAL-URL:https://scituatevisitorscenter.com
X-WR-CALDESC:Events for Scituate Visitors Center
REFRESH-INTERVAL;VALUE=DURATION:PT1H
X-Robots-Tag:noindex
X-PUBLISHED-TTL:PT1H
BEGIN:VTIMEZONE
TZID:America/New_York
BEGIN:DAYLIGHT
TZOFFSETFROM:-0500
TZOFFSETTO:-0400
TZNAME:EDT
DTSTART:20230312T070000
END:DAYLIGHT
BEGIN:STANDARD
TZOFFSETFROM:-0400
TZOFFSETTO:-0500
TZNAME:EST
DTSTART:20231105T060000
END:STANDARD
BEGIN:DAYLIGHT
TZOFFSETFROM:-0500
TZOFFSETTO:-0400
TZNAME:EDT
DTSTART:20240310T070000
END:DAYLIGHT
BEGIN:STANDARD
TZOFFSETFROM:-0400
TZOFFSETTO:-0500
TZNAME:EST
DTSTART:20241103T060000
END:STANDARD
BEGIN:DAYLIGHT
TZOFFSETFROM:-0500
TZOFFSETTO:-0400
TZNAME:EDT
DTSTART:20250309T070000
END:DAYLIGHT
BEGIN:STANDARD
TZOFFSETFROM:-0400
TZOFFSETTO:-0500
TZNAME:EST
DTSTART:20251102T060000
END:STANDARD
END:VTIMEZONE
BEGIN:VEVENT
DTSTART;TZID=America/New_York:20240803T090000
DTEND;TZID=America/New_York:20240804T210000
DTSTAMP:20260422T115108
CREATED:20240625T210222Z
LAST-MODIFIED:20240625T210222Z
UID:5916-1722675600-1722805200@scituatevisitorscenter.com
SUMMARY:55th Annual Heritage Days
DESCRIPTION:Joni the Scituate Chamber of Commerce for this annual weekend event filled with music\, food\, artisans\, beer garden\, boat races\, kids amusement rides and so much more.
URL:https://scituatevisitorscenter.com/event/55th-annual-heritage-days/
LOCATION:Cole Parkway\, Cole Pkwy\, Scituate\, MA\, 02066\, United States
CATEGORIES:Cultural,Entertainment,Family,Food Trucks,Heritage Days,Live Music
ATTACH;FMTTYPE=image/jpeg:https://scituatevisitorscenter.com/wp-content/uploads/2024/06/449144010_876452454525036_1957213985283516221_n.jpg
ORGANIZER;CN="Scituate Chamber of Commerce":MAILTO:info@scituatechamber.org
END:VEVENT
BEGIN:VEVENT
DTSTART;TZID=America/New_York:20240804T130000
DTEND;TZID=America/New_York:20240804T160000
DTSTAMP:20260422T115108
CREATED:20240712T175916Z
LAST-MODIFIED:20240712T175916Z
UID:6005-1722776400-1722787200@scituatevisitorscenter.com
SUMMARY:Scituate Historical Locations Open
DESCRIPTION:Join the Scituate Historical Society at locations around Town. Volunteers will be on hand to provide tours\, answer questions\, and give you a look at the Town’s amazing history. More details on their website.
URL:https://scituatevisitorscenter.com/event/scituate-historical-locations-open-2/
LOCATION:Scituate Lawson Tower\, 330 FIrst Parish Road\, Scituate\, MA\, 02066
CATEGORIES:Cultural,Educational,Entertainment,Family,Heritage Days,Historical
ORGANIZER;CN="Scituate Historical Society":MAILTO:info@scituatehistoricalsociety.org
END:VEVENT
END:VCALENDAR