BEGIN:VCALENDAR
VERSION:2.0
PRODID:-//Scituate Visitors Center - ECPv6.15.18//NONSGML v1.0//EN
CALSCALE:GREGORIAN
METHOD:PUBLISH
X-WR-CALNAME:Scituate Visitors Center
X-ORIGINAL-URL:https://scituatevisitorscenter.com
X-WR-CALDESC:Events for Scituate Visitors Center
REFRESH-INTERVAL;VALUE=DURATION:PT1H
X-Robots-Tag:noindex
X-PUBLISHED-TTL:PT1H
BEGIN:VTIMEZONE
TZID:America/New_York
BEGIN:DAYLIGHT
TZOFFSETFROM:-0500
TZOFFSETTO:-0400
TZNAME:EDT
DTSTART:20230312T070000
END:DAYLIGHT
BEGIN:STANDARD
TZOFFSETFROM:-0400
TZOFFSETTO:-0500
TZNAME:EST
DTSTART:20231105T060000
END:STANDARD
BEGIN:DAYLIGHT
TZOFFSETFROM:-0500
TZOFFSETTO:-0400
TZNAME:EDT
DTSTART:20240310T070000
END:DAYLIGHT
BEGIN:STANDARD
TZOFFSETFROM:-0400
TZOFFSETTO:-0500
TZNAME:EST
DTSTART:20241103T060000
END:STANDARD
BEGIN:DAYLIGHT
TZOFFSETFROM:-0500
TZOFFSETTO:-0400
TZNAME:EDT
DTSTART:20250309T070000
END:DAYLIGHT
BEGIN:STANDARD
TZOFFSETFROM:-0400
TZOFFSETTO:-0500
TZNAME:EST
DTSTART:20251102T060000
END:STANDARD
END:VTIMEZONE
BEGIN:VEVENT
DTSTART;VALUE=DATE:20240807
DTEND;VALUE=DATE:20240808
DTSTAMP:20260422T154432
CREATED:20240603T145212Z
LAST-MODIFIED:20240717T135841Z
UID:5818-1722988800-1723075199@scituatevisitorscenter.com
SUMMARY:Scituate Lighthouse Day Celebration
DESCRIPTION:The Scituate Historical Society will be hosting a celebration of the recommissioning of Scituate Lighthouse on the occasion of National Lighthouse Day. Stay tuned for details. Sure to be a wonderful community celebration.
URL:https://scituatevisitorscenter.com/event/scituate-lighthouse-day-celebration/
LOCATION:Scituate Lighthouse\, Lighthouse Road\, Scituate\, 02066
CATEGORIES:Community,Cultural,Historical
ORGANIZER;CN="Scituate Historical Society":MAILTO:info@scituatehistoricalsociety.org
END:VEVENT
END:VCALENDAR