BEGIN:VCALENDAR
VERSION:2.0
PRODID:-//Scituate Visitors Center - ECPv6.15.18//NONSGML v1.0//EN
CALSCALE:GREGORIAN
METHOD:PUBLISH
X-WR-CALNAME:Scituate Visitors Center
X-ORIGINAL-URL:https://scituatevisitorscenter.com
X-WR-CALDESC:Events for Scituate Visitors Center
REFRESH-INTERVAL;VALUE=DURATION:PT1H
X-Robots-Tag:noindex
X-PUBLISHED-TTL:PT1H
BEGIN:VTIMEZONE
TZID:America/New_York
BEGIN:DAYLIGHT
TZOFFSETFROM:-0500
TZOFFSETTO:-0400
TZNAME:EDT
DTSTART:20230312T070000
END:DAYLIGHT
BEGIN:STANDARD
TZOFFSETFROM:-0400
TZOFFSETTO:-0500
TZNAME:EST
DTSTART:20231105T060000
END:STANDARD
BEGIN:DAYLIGHT
TZOFFSETFROM:-0500
TZOFFSETTO:-0400
TZNAME:EDT
DTSTART:20240310T070000
END:DAYLIGHT
BEGIN:STANDARD
TZOFFSETFROM:-0400
TZOFFSETTO:-0500
TZNAME:EST
DTSTART:20241103T060000
END:STANDARD
BEGIN:DAYLIGHT
TZOFFSETFROM:-0500
TZOFFSETTO:-0400
TZNAME:EDT
DTSTART:20250309T070000
END:DAYLIGHT
BEGIN:STANDARD
TZOFFSETFROM:-0400
TZOFFSETTO:-0500
TZNAME:EST
DTSTART:20251102T060000
END:STANDARD
END:VTIMEZONE
BEGIN:VEVENT
DTSTART;TZID=America/New_York:20240810T090000
DTEND;TZID=America/New_York:20240810T113000
DTSTAMP:20260422T212428
CREATED:20240808T150320Z
LAST-MODIFIED:20240808T150320Z
UID:6087-1723280400-1723289400@scituatevisitorscenter.com
SUMMARY:Beach Clean-up: Egypt Beach
DESCRIPTION:Join the Scituate Beach Association and Scituate Trashed on Egypt Beach for an end-of-season cleanup. Great opportunity for the entire family. You know the saying: many hands make light work!
URL:https://scituatevisitorscenter.com/event/beach-clean-up-egypt-beach/
LOCATION:Egypt Beach parking lot\, 303-330 HATHERLY ROAD\, SCITUATE\, MA\, 02066\, United States
CATEGORIES:Beach,Community,Nature
END:VEVENT
BEGIN:VEVENT
DTSTART;TZID=America/New_York:20240810T120000
DTEND;TZID=America/New_York:20240810T210000
DTSTAMP:20260422T212428
CREATED:20240729T171134Z
LAST-MODIFIED:20240808T194720Z
UID:6068-1723291200-1723323600@scituatevisitorscenter.com
SUMMARY:Cure for Cole Event at Untold Brewery
DESCRIPTION:Don’t miss this annual fundraiser in support of Neph Cure Foundation and Scituate’s own Cole Pasqualucci.  Food trucks and live music will keep you full and dancing all day. Please park at the Greenbush MBTA station and walk over (no onsite parking).  A great event for the whole family.
URL:https://scituatevisitorscenter.com/event/cure-for-cole-event-at-untold-brewery/
LOCATION:Untold Brewing\, 6 Old Country Way\, Scituate\, 02066
CATEGORIES:Entertainment,Family,Food Trucks,Fundraisers,Live Music
ORGANIZER;CN="Untold Brewing":MAILTO:info@untoldbrewing.com
END:VEVENT
BEGIN:VEVENT
DTSTART;TZID=America/New_York:20240810T190000
DTEND;TZID=America/New_York:20240810T210000
DTSTAMP:20260422T212428
CREATED:20240729T171250Z
LAST-MODIFIED:20240729T171250Z
UID:6070-1723316400-1723323600@scituatevisitorscenter.com
SUMMARY:SOLD OUT! Lenny Clarke at the Scituate Beach Association
DESCRIPTION:Bummer! Lenny Clarke will be entertaining the lucky ones who scooped up tickets for this fun evening. Next year!
URL:https://scituatevisitorscenter.com/event/sold-out-lenny-clarke-at-the-scituate-beach-association/
LOCATION:Scituate Beach Association\, Otis Avenue\, Scituate\, MA\, 02066\, United States
END:VEVENT
END:VCALENDAR