BEGIN:VCALENDAR
VERSION:2.0
PRODID:-//Scituate Visitors Center - ECPv6.15.18//NONSGML v1.0//EN
CALSCALE:GREGORIAN
METHOD:PUBLISH
X-WR-CALNAME:Scituate Visitors Center
X-ORIGINAL-URL:https://scituatevisitorscenter.com
X-WR-CALDESC:Events for Scituate Visitors Center
REFRESH-INTERVAL;VALUE=DURATION:PT1H
X-Robots-Tag:noindex
X-PUBLISHED-TTL:PT1H
BEGIN:VTIMEZONE
TZID:America/New_York
BEGIN:DAYLIGHT
TZOFFSETFROM:-0500
TZOFFSETTO:-0400
TZNAME:EDT
DTSTART:20250309T070000
END:DAYLIGHT
BEGIN:STANDARD
TZOFFSETFROM:-0400
TZOFFSETTO:-0500
TZNAME:EST
DTSTART:20251102T060000
END:STANDARD
BEGIN:DAYLIGHT
TZOFFSETFROM:-0500
TZOFFSETTO:-0400
TZNAME:EDT
DTSTART:20260308T070000
END:DAYLIGHT
BEGIN:STANDARD
TZOFFSETFROM:-0400
TZOFFSETTO:-0500
TZNAME:EST
DTSTART:20261101T060000
END:STANDARD
BEGIN:DAYLIGHT
TZOFFSETFROM:-0500
TZOFFSETTO:-0400
TZNAME:EDT
DTSTART:20270314T070000
END:DAYLIGHT
BEGIN:STANDARD
TZOFFSETFROM:-0400
TZOFFSETTO:-0500
TZNAME:EST
DTSTART:20271107T060000
END:STANDARD
END:VTIMEZONE
BEGIN:VEVENT
DTSTART;TZID=America/New_York:20260415T163000
DTEND;TZID=America/New_York:20260415T180000
DTSTAMP:20260419T084313
CREATED:20260320T191429Z
LAST-MODIFIED:20260320T191429Z
UID:9493-1776270600-1776276000@scituatevisitorscenter.com
SUMMARY:Girls Varsity Lacrosse vs. North Quincy
DESCRIPTION:Come support the Sailors as they take on North Quincy.
URL:https://scituatevisitorscenter.com/event/girls-varsity-lacrosse-vs-north-quincy/
LOCATION:Scituate High School
CATEGORIES:Community,Sports
ATTACH;FMTTYPE=image/jpeg:https://scituatevisitorscenter.com/wp-content/uploads/2026/03/Unknown-4.jpeg
END:VEVENT
END:VCALENDAR