BEGIN:VCALENDAR
VERSION:2.0
PRODID:-//Scituate Visitors Center - ECPv6.15.18//NONSGML v1.0//EN
CALSCALE:GREGORIAN
METHOD:PUBLISH
X-WR-CALNAME:Scituate Visitors Center
X-ORIGINAL-URL:https://scituatevisitorscenter.com
X-WR-CALDESC:Events for Scituate Visitors Center
REFRESH-INTERVAL;VALUE=DURATION:PT1H
X-Robots-Tag:noindex
X-PUBLISHED-TTL:PT1H
BEGIN:VTIMEZONE
TZID:America/New_York
BEGIN:DAYLIGHT
TZOFFSETFROM:-0500
TZOFFSETTO:-0400
TZNAME:EDT
DTSTART:20250309T070000
END:DAYLIGHT
BEGIN:STANDARD
TZOFFSETFROM:-0400
TZOFFSETTO:-0500
TZNAME:EST
DTSTART:20251102T060000
END:STANDARD
BEGIN:DAYLIGHT
TZOFFSETFROM:-0500
TZOFFSETTO:-0400
TZNAME:EDT
DTSTART:20260308T070000
END:DAYLIGHT
BEGIN:STANDARD
TZOFFSETFROM:-0400
TZOFFSETTO:-0500
TZNAME:EST
DTSTART:20261101T060000
END:STANDARD
BEGIN:DAYLIGHT
TZOFFSETFROM:-0500
TZOFFSETTO:-0400
TZNAME:EDT
DTSTART:20270314T070000
END:DAYLIGHT
BEGIN:STANDARD
TZOFFSETFROM:-0400
TZOFFSETTO:-0500
TZNAME:EST
DTSTART:20271107T060000
END:STANDARD
END:VTIMEZONE
BEGIN:VEVENT
DTSTART;TZID=America/New_York:20260206T193000
DTEND;TZID=America/New_York:20260206T213000
DTSTAMP:20260419T095119
CREATED:20260116T135021Z
LAST-MODIFIED:20260116T135021Z
UID:9133-1770406200-1770413400@scituatevisitorscenter.com
SUMMARY:Mean Girls: The Musical
DESCRIPTION:Spotlight Music and Theater Company is bringing Mean Girls: The Musical to Scituate’s Performing Arts Center! Not only is it an amazing production\, it features SEVEN Scituate high school students in the cast!! You don’t want to miss this. Three performances. It will be so fetch.
URL:https://scituatevisitorscenter.com/event/mean-girls-the-musical/2026-02-06/
LOCATION:Center for the Performing Arts at Scituate High School\, 606 Chief Justice Cushing Highway\, Scituate\, MA\, 02066\, United States
CATEGORIES:Art,Comedy,Community,Cultural,Entertainment,Family,Live Music
ATTACH;FMTTYPE=image/jpeg:https://scituatevisitorscenter.com/wp-content/uploads/2026/01/613857379_1388516402174997_5468924754419953478_n.jpg
END:VEVENT
BEGIN:VEVENT
DTSTART;TZID=America/New_York:20260207T193000
DTEND;TZID=America/New_York:20260207T213000
DTSTAMP:20260419T095119
CREATED:20260116T135021Z
LAST-MODIFIED:20260116T135021Z
UID:9136-1770492600-1770499800@scituatevisitorscenter.com
SUMMARY:Mean Girls: The Musical
DESCRIPTION:Spotlight Music and Theater Company is bringing Mean Girls: The Musical to Scituate’s Performing Arts Center! Not only is it an amazing production\, it features SEVEN Scituate high school students in the cast!! You don’t want to miss this. Three performances. It will be so fetch.
URL:https://scituatevisitorscenter.com/event/mean-girls-the-musical/2026-02-07/
LOCATION:Center for the Performing Arts at Scituate High School\, 606 Chief Justice Cushing Highway\, Scituate\, MA\, 02066\, United States
CATEGORIES:Art,Comedy,Community,Cultural,Entertainment,Family,Live Music
ATTACH;FMTTYPE=image/jpeg:https://scituatevisitorscenter.com/wp-content/uploads/2026/01/613857379_1388516402174997_5468924754419953478_n.jpg
END:VEVENT
BEGIN:VEVENT
DTSTART;TZID=America/New_York:20260208T140000
DTEND;TZID=America/New_York:20260208T163000
DTSTAMP:20260419T095119
CREATED:20260116T135021Z
LAST-MODIFIED:20260116T135021Z
UID:9137-1770559200-1770568200@scituatevisitorscenter.com
SUMMARY:Mean Girls: The Musical
DESCRIPTION:Spotlight Music and Theater Company is bringing Mean Girls: The Musical to Scituate’s Performing Arts Center! Not only is it an amazing production\, it features SEVEN Scituate high school students in the cast!! You don’t want to miss this. Three performances. It will be so fetch.
URL:https://scituatevisitorscenter.com/event/mean-girls-the-musical/2026-02-08/
LOCATION:Center for the Performing Arts at Scituate High School\, 606 Chief Justice Cushing Highway\, Scituate\, MA\, 02066\, United States
CATEGORIES:Art,Comedy,Community,Cultural,Entertainment,Family,Live Music
ATTACH;FMTTYPE=image/jpeg:https://scituatevisitorscenter.com/wp-content/uploads/2026/01/613857379_1388516402174997_5468924754419953478_n.jpg
END:VEVENT
BEGIN:VEVENT
DTSTART;TZID=America/New_York:20260227T190000
DTEND;TZID=America/New_York:20260227T213000
DTSTAMP:20260419T095119
CREATED:20260225T204806Z
LAST-MODIFIED:20260225T204806Z
UID:9320-1772218800-1772227800@scituatevisitorscenter.com
SUMMARY:Scituate Comedy Night
DESCRIPTION:Forget about the snow for a while with some yummy bar pizza and belly laughs. Please arrive early\, carpool or uber/lyft as street parking ban is still in effect. \nSee National Headlining Comedian Corey Rodrigues in Scituate\, hosted by Brian Moller!\nCorey is a highly sought after national touring college\, club and corporate performer. He was the winner of The Catch a New Rising Star\, The Funniest Comic in New England and the 2017 Big Sky Comedy Festivals. Rodrigues has been featured on the hilarious Gotham Live\, Laughs on Fox and True Tv’s Laff Mobbs Laff Tracks. In 2018 he released his Dry Bar comedy special\, was voted “best of the fest” at the Big Pine Comedy Festival and was picked as one of TBS’s Comics to Watch at the New York Comedy Fest. \nIn 2019 Rodrigues made his late-night TV debut on the Conan O’Brien show. In 2020 he released another 30-minute Comedy Special for the EPIX series “Unprotected Sets.” His comedy is honest and fun\, constantly peppering in stories from his life and the lives of those around him. Mix that with a hilarious point of view and he’s able to talk about just about anything. Rodrigues has been seen in multiple commercials and in the 2022 Amazon Prime streaming Film “Salesman.” \nThe show will be hosted by comedian & TikTok star Brian Moller will be hosting the show.\nDoors Open at 7pm\, Showtime at 8pm
URL:https://scituatevisitorscenter.com/event/scituate-comedy-night-2/
LOCATION:Scituate VFW Post 3169\, 736 Chief Justice Cushing Hwy\, Scituate\, MA\, 02066
CATEGORIES:Comedy,Entertainment
ATTACH;FMTTYPE=image/jpeg:https://scituatevisitorscenter.com/wp-content/uploads/2026/02/643299434_1468901088365244_6895344892176426770_n.jpg
END:VEVENT
END:VCALENDAR