BEGIN:VCALENDAR
VERSION:2.0
PRODID:-//Scituate Visitors Center - ECPv6.15.18//NONSGML v1.0//EN
CALSCALE:GREGORIAN
METHOD:PUBLISH
X-WR-CALNAME:Scituate Visitors Center
X-ORIGINAL-URL:https://scituatevisitorscenter.com
X-WR-CALDESC:Events for Scituate Visitors Center
REFRESH-INTERVAL;VALUE=DURATION:PT1H
X-Robots-Tag:noindex
X-PUBLISHED-TTL:PT1H
BEGIN:VTIMEZONE
TZID:America/New_York
BEGIN:DAYLIGHT
TZOFFSETFROM:-0500
TZOFFSETTO:-0400
TZNAME:EDT
DTSTART:20240310T070000
END:DAYLIGHT
BEGIN:STANDARD
TZOFFSETFROM:-0400
TZOFFSETTO:-0500
TZNAME:EST
DTSTART:20241103T060000
END:STANDARD
BEGIN:DAYLIGHT
TZOFFSETFROM:-0500
TZOFFSETTO:-0400
TZNAME:EDT
DTSTART:20250309T070000
END:DAYLIGHT
BEGIN:STANDARD
TZOFFSETFROM:-0400
TZOFFSETTO:-0500
TZNAME:EST
DTSTART:20251102T060000
END:STANDARD
BEGIN:DAYLIGHT
TZOFFSETFROM:-0500
TZOFFSETTO:-0400
TZNAME:EDT
DTSTART:20260308T070000
END:DAYLIGHT
BEGIN:STANDARD
TZOFFSETFROM:-0400
TZOFFSETTO:-0500
TZNAME:EST
DTSTART:20261101T060000
END:STANDARD
END:VTIMEZONE
BEGIN:VEVENT
DTSTART;TZID=America/New_York:20251025T190000
DTEND;TZID=America/New_York:20251025T203000
DTSTAMP:20260420T053624
CREATED:20251023T154328Z
LAST-MODIFIED:20251023T154328Z
UID:8714-1761418800-1761424200@scituatevisitorscenter.com
SUMMARY:A Swingin Affair: All-Star Big Band Tribute to Sinatra
DESCRIPTION:A world-class 16 piece professional big band will be performing with featured vocalists to perform hit Sinatra tunes. Don’t miss their renditions of “Fly Me to the Moon” and “New York! New York!”  Tickets are available in advance and at the door. $40 general seating. $25 for students/seniors/groups.  Featured artists include Steve Bass\, Donnie Norton and Sarah Bass.
URL:https://scituatevisitorscenter.com/event/a-swingin-affair-all-star-big-band-tribute-to-sinatra/
LOCATION:scituate Performing Arts Center\, 602 Chief Justice Cushing Highway\, Scituate\, MA\, 02066
CATEGORIES:Entertainment,Live Music
END:VEVENT
END:VCALENDAR