BEGIN:VCALENDAR
VERSION:2.0
PRODID:-//Scituate Visitors Center - ECPv6.15.18//NONSGML v1.0//EN
CALSCALE:GREGORIAN
METHOD:PUBLISH
X-WR-CALNAME:Scituate Visitors Center
X-ORIGINAL-URL:https://scituatevisitorscenter.com
X-WR-CALDESC:Events for Scituate Visitors Center
REFRESH-INTERVAL;VALUE=DURATION:PT1H
X-Robots-Tag:noindex
X-PUBLISHED-TTL:PT1H
BEGIN:VTIMEZONE
TZID:America/New_York
BEGIN:DAYLIGHT
TZOFFSETFROM:-0500
TZOFFSETTO:-0400
TZNAME:EDT
DTSTART:20240310T070000
END:DAYLIGHT
BEGIN:STANDARD
TZOFFSETFROM:-0400
TZOFFSETTO:-0500
TZNAME:EST
DTSTART:20241103T060000
END:STANDARD
BEGIN:DAYLIGHT
TZOFFSETFROM:-0500
TZOFFSETTO:-0400
TZNAME:EDT
DTSTART:20250309T070000
END:DAYLIGHT
BEGIN:STANDARD
TZOFFSETFROM:-0400
TZOFFSETTO:-0500
TZNAME:EST
DTSTART:20251102T060000
END:STANDARD
BEGIN:DAYLIGHT
TZOFFSETFROM:-0500
TZOFFSETTO:-0400
TZNAME:EDT
DTSTART:20260308T070000
END:DAYLIGHT
BEGIN:STANDARD
TZOFFSETFROM:-0400
TZOFFSETTO:-0500
TZNAME:EST
DTSTART:20261101T060000
END:STANDARD
END:VTIMEZONE
BEGIN:VEVENT
DTSTART;TZID=America/New_York:20251102T080000
DTEND;TZID=America/New_York:20251102T160000
DTSTAMP:20260423T012729
CREATED:20251027T165552Z
LAST-MODIFIED:20251027T165552Z
UID:8731-1762070400-1762099200@scituatevisitorscenter.com
SUMMARY:Take a Hike!  Scituate has miles and miles of walking trails
DESCRIPTION:Did you know there are walking trails in all of Scituate’s conservation areas? Check out all the options here: https://www.scituatema.gov/conservation-commission/pages/conservation-land-trails.  The newest path is on the Mordechai Lincoln Historic Homestead (not even on the town website yet) and is easy peasy for kids (no dogs\, please) and a stroll into North Scituate afterward! \nIf you want to take your four legged friends\, most of the other paths are leash-friendly locations. And remember\, no parking pass needed for beach parking lots after Labor Day. \nFor an overview of different itineraries\, see the website page: https://scituatevisitorscenter.com/itineraries/scituate-for-hikers/
URL:https://scituatevisitorscenter.com/event/take-a-hike-scituate-has-miles-and-miles-of-walking-trails/
LOCATION:Scituate\, MA\, Scituate\, MA\, 02066
CATEGORIES:Kids,Trails,Wellness
ATTACH;FMTTYPE=image/jpeg:https://scituatevisitorscenter.com/wp-content/uploads/2021/06/IMG_1448.jpg
END:VEVENT
BEGIN:VEVENT
DTSTART;TZID=America/New_York:20251116T193000
DTEND;TZID=America/New_York:20251116T210000
DTSTAMP:20260423T012729
CREATED:20251023T143408Z
LAST-MODIFIED:20251112T173755Z
UID:8706-1763321400-1763326800@scituatevisitorscenter.com
SUMMARY:North Pole Express Drive-In Movie Experience
DESCRIPTION:Get in the cozy holiday spirit with an exciting drive in movie experience! Showing the Polar Express\, Sunday\, November 16th at the Gates Middle School parking lot! Two showtimes available (4:30pm (SOLD OUT!) and 7:30pm)! $50/car. Food trucks and North Pole characters will be there to celebrate!
URL:https://scituatevisitorscenter.com/event/north-pole-express-drive-in-movie-experience/
LOCATION:Gates Middle School\, 460 First Parish Rd\, Scituate\, MA\, 02066\, United States
CATEGORIES:Entertainment,Family,Food Trucks,Holiday,Kids,Seasonal
ATTACH;FMTTYPE=image/jpeg:https://scituatevisitorscenter.com/wp-content/uploads/2025/10/565112252_18074026178327516_1961373498222889854_n.jpg
ORGANIZER;CN="CORSE Foundation":MAILTO:scituatenorthpoleexpress@gmail.com
END:VEVENT
BEGIN:VEVENT
DTSTART;TZID=America/New_York:20251117T160000
DTEND;TZID=America/New_York:20251117T170000
DTSTAMP:20260423T012729
CREATED:20251103T160935Z
LAST-MODIFIED:20251103T160935Z
UID:8765-1763395200-1763398800@scituatevisitorscenter.com
SUMMARY:Lego Club
DESCRIPTION:Drop-in Program for Students in Grades K -5 at the Scituate Town Library \nLed by our fantastic Master LEGO Builders (aka Teen Volunteers!)\, come build for an hour with the library’s collection of LEGOs! Each session will offer a different and fun building challenge for you and your friends to try. We’ll display your creation in the children’s room between meetings! \nGuardians are required to stay in the Library while kids attend Lego Club.
URL:https://scituatevisitorscenter.com/event/lego-club/
LOCATION:Town of Scituate Library\, 85 Branch Street\, Scituate\, MA\, 02066\, United States
CATEGORIES:Crafts,Entertainment,Kids
ATTACH;FMTTYPE=image/jpeg:https://scituatevisitorscenter.com/wp-content/uploads/2025/11/lego-4259739_150.jpg
END:VEVENT
BEGIN:VEVENT
DTSTART;TZID=America/New_York:20251127T091500
DTEND;TZID=America/New_York:20251127T110000
DTSTAMP:20260423T012729
CREATED:20251103T160202Z
LAST-MODIFIED:20251103T160202Z
UID:8760-1764234900-1764241200@scituatevisitorscenter.com
SUMMARY:14th Annual (Unofficial) "Follow Me to TKs Turkey Trot"
DESCRIPTION:Entry fee: non-perishable food items\, grocery store gift cards and/or cash/check made out to the Scituate Food Pantry. \nDetails: Meet at TKs starting at 9:15am with your entry fee. Run/walk around the lighthouse and back to TKs (total of about 2.5 miles). All ages and abilities are welcome! \nAttire: dress up as a turkey\, pilgrim\, squash — whatever says “thanksgiving” to you! Costumes are encouraged. \nPlease note there is no official start time. Participants are encourage to begin whenever they drop their entry fee off and are ready.  \nA limited number of race shirts will be available for purchase on a first come-first serve basis ($25\, cash only). All proceeds go to Scituate Food Pantry. \nNote that TKs will be open from 10am to 1pm on Thanksgiving day for a post-race cocktail!
URL:https://scituatevisitorscenter.com/event/14th-annual-unofficial-follow-me-to-tks-turkey-trot/
LOCATION:TK O’Malleys Restaurant\, Front Street\, Scituate
CATEGORIES:Community,Family,Fundraisers,Holiday,Kids,Sports
ATTACH;FMTTYPE=image/jpeg:https://scituatevisitorscenter.com/wp-content/uploads/2025/11/470092004_1544327256251149_592751216326270015_n.jpg
END:VEVENT
END:VCALENDAR