BEGIN:VCALENDAR
VERSION:2.0
PRODID:-//Scituate Visitors Center - ECPv6.15.18//NONSGML v1.0//EN
CALSCALE:GREGORIAN
METHOD:PUBLISH
X-WR-CALNAME:Scituate Visitors Center
X-ORIGINAL-URL:https://scituatevisitorscenter.com
X-WR-CALDESC:Events for Scituate Visitors Center
REFRESH-INTERVAL;VALUE=DURATION:PT1H
X-Robots-Tag:noindex
X-PUBLISHED-TTL:PT1H
BEGIN:VTIMEZONE
TZID:America/New_York
BEGIN:DAYLIGHT
TZOFFSETFROM:-0500
TZOFFSETTO:-0400
TZNAME:EDT
DTSTART:20250309T070000
END:DAYLIGHT
BEGIN:STANDARD
TZOFFSETFROM:-0400
TZOFFSETTO:-0500
TZNAME:EST
DTSTART:20251102T060000
END:STANDARD
BEGIN:DAYLIGHT
TZOFFSETFROM:-0500
TZOFFSETTO:-0400
TZNAME:EDT
DTSTART:20260308T070000
END:DAYLIGHT
BEGIN:STANDARD
TZOFFSETFROM:-0400
TZOFFSETTO:-0500
TZNAME:EST
DTSTART:20261101T060000
END:STANDARD
BEGIN:DAYLIGHT
TZOFFSETFROM:-0500
TZOFFSETTO:-0400
TZNAME:EDT
DTSTART:20270314T070000
END:DAYLIGHT
BEGIN:STANDARD
TZOFFSETFROM:-0400
TZOFFSETTO:-0500
TZNAME:EST
DTSTART:20271107T060000
END:STANDARD
END:VTIMEZONE
BEGIN:VEVENT
DTSTART;TZID=America/New_York:20260501T180000
DTEND;TZID=America/New_York:20260501T200000
DTSTAMP:20260422T165817
CREATED:20260407T183521Z
LAST-MODIFIED:20260407T183521Z
UID:9576-1777658400-1777665600@scituatevisitorscenter.com
SUMMARY:C.O.R.S.E. Foundation Dance for Autism
DESCRIPTION:Come enjoy a dance to support the CORSE Foundation’s work with Scituate students. See flyer for QR Code to purchase tickets and learn more.
URL:https://scituatevisitorscenter.com/event/c-o-r-s-e-foundation-dance-for-autism/
LOCATION:Gates Middle School\, 460 First Parish Rd\, Scituate\, MA\, 02066\, United States
CATEGORIES:Community,Fundraisers,Kids
ATTACH;FMTTYPE=image/jpeg:https://scituatevisitorscenter.com/wp-content/uploads/2026/04/IMG_5535-scaled.jpg
ORGANIZER;CN="CORSE Foundation":MAILTO:scituatenorthpoleexpress@gmail.com
END:VEVENT
BEGIN:VEVENT
DTSTART;VALUE=DATE:20260502
DTEND;VALUE=DATE:20260503
DTSTAMP:20260422T165817
CREATED:20260323T200147Z
LAST-MODIFIED:20260323T200147Z
UID:9515-1777680000-1777766399@scituatevisitorscenter.com
SUMMARY:Get To Greenbush
DESCRIPTION:Come visit this vibrant village within Scituate and sample local merchant wares\, enjoy kids activities\, live music and food trucks. An event not to miss. Please park at the Greenbush MBTA parking lot and wander.
URL:https://scituatevisitorscenter.com/event/get-to-greenbush/
LOCATION:MBTA Parking Lot (Greenbush)\, 247 Driftway\, Scituate\, 02066
CATEGORIES:Community,Entertainment,Family,Food Trucks,Kids,Shopping
ATTACH;FMTTYPE=image/jpeg:https://scituatevisitorscenter.com/wp-content/uploads/2026/03/Unknown-8.jpeg
END:VEVENT
BEGIN:VEVENT
DTSTART;TZID=America/New_York:20260502T080000
DTEND;TZID=America/New_York:20260502T170000
DTSTAMP:20260422T165817
CREATED:20260323T195438Z
LAST-MODIFIED:20260323T195438Z
UID:9509-1777708800-1777741200@scituatevisitorscenter.com
SUMMARY:58th ANNUAL SCITUATE SHIP SHAPE DAY
DESCRIPTION:Join in this annual tradition of readying Scituate for the summer festivities. Claim your neighborhood or join others to tackle public spaces. Supplies available at Town Hall (gloves\, bags\, pickers) thanks to the amazing coordination of the Scituate Beautification Committee.
URL:https://scituatevisitorscenter.com/event/58th-annual-scituate-ship-shape-day/
LOCATION:Scituate Town Hall\, 600 Chief Justice Cushing Highway\, Scituate\, MA\, 02066
CATEGORIES:Community,Family,Kids
ATTACH;FMTTYPE=image/jpeg:https://scituatevisitorscenter.com/wp-content/uploads/2026/03/Unknown-7.jpeg
GEO:42.1975° N;70.7684° W
X-APPLE-STRUCTURED-LOCATION;VALUE=URI;X-ADDRESS=Scituate Town Hall 600 Chief Justice Cushing Highway Scituate MA 02066;X-APPLE-RADIUS=500;X-TITLE=600 Chief Justice Cushing Highway:geo:70.7684° W,42.1975° N
END:VEVENT
BEGIN:VEVENT
DTSTART;TZID=America/New_York:20260503T090000
DTEND;TZID=America/New_York:20260503T170000
DTSTAMP:20260422T165817
CREATED:20260407T201455Z
LAST-MODIFIED:20260407T201455Z
UID:9585-1777798800-1777827600@scituatevisitorscenter.com
SUMMARY:Dalby Farm Spring Hatch Celebration
DESCRIPTION:For a limited time\, come meet the newest members of our 165 year old family operated educational farm! During your EGG-citing 30 minute celebratory visit\, our baby chicks will make their debut. In addition to seeing the chicks and socializing with the other animals on the farm\, to make your visit EGG-stra special\, your group can opt to partake in a 15 minute private egg hunt! The base fee also includes a $10 credit to our Country Store! Before leaving\, remember to swing in and find something special for the Moms in your life! We have lots of unique Mother’s Day gift ideas that are sure to thrill her! Registration will begin in March at DalbyFarm.com (you must register to secure your spot)
URL:https://scituatevisitorscenter.com/event/dalby-farm-spring-hatch-celebration/
LOCATION:Dalby Farm\, 59 Grove Street\, Scituate\, MA\, 02066\, United States
CATEGORIES:Community,Entertainment,Family,Farms,Kids,Nature,Seasonal
ATTACH;FMTTYPE=image/jpeg:https://scituatevisitorscenter.com/wp-content/uploads/2026/04/EventPhotoFull_logo_small.jpeg
END:VEVENT
BEGIN:VEVENT
DTSTART;TZID=America/New_York:20260514T160000
DTEND;TZID=America/New_York:20260514T173000
DTSTAMP:20260422T165817
CREATED:20260407T212146Z
LAST-MODIFIED:20260407T212146Z
UID:9623-1778774400-1778779800@scituatevisitorscenter.com
SUMMARY:Varsity Girls Lacrosse vs. Pembroke
DESCRIPTION:Come support the Sailors as they take on Pembroke’s Varsity Girls.
URL:https://scituatevisitorscenter.com/event/varsity-girls-lacrosse-vs-pembroke/
LOCATION:Scituate High School
CATEGORIES:Family,Kids,Sports
ATTACH;FMTTYPE=image/jpeg:https://scituatevisitorscenter.com/wp-content/uploads/2026/03/Unknown-4.jpeg
END:VEVENT
BEGIN:VEVENT
DTSTART;TZID=America/New_York:20260518T190000
DTEND;TZID=America/New_York:20260518T203000
DTSTAMP:20260422T165817
CREATED:20260407T211057Z
LAST-MODIFIED:20260407T211057Z
UID:9608-1779130800-1779136200@scituatevisitorscenter.com
SUMMARY:Powder Puff Football Game
DESCRIPTION:Come cheer on SHS Girls in this annual end-of-year Powderpuff Football Competition.
URL:https://scituatevisitorscenter.com/event/powder-puff-football-game/
LOCATION:Scituate High School
CATEGORIES:Entertainment,Family,Kids,Sports
ATTACH;FMTTYPE=image/jpeg:https://scituatevisitorscenter.com/wp-content/uploads/2026/04/Unknown-3.jpeg
END:VEVENT
END:VCALENDAR