BEGIN:VCALENDAR
VERSION:2.0
PRODID:-//Scituate Visitors Center - ECPv6.15.18//NONSGML v1.0//EN
CALSCALE:GREGORIAN
METHOD:PUBLISH
X-WR-CALNAME:Scituate Visitors Center
X-ORIGINAL-URL:https://scituatevisitorscenter.com
X-WR-CALDESC:Events for Scituate Visitors Center
REFRESH-INTERVAL;VALUE=DURATION:PT1H
X-Robots-Tag:noindex
X-PUBLISHED-TTL:PT1H
BEGIN:VTIMEZONE
TZID:America/New_York
BEGIN:DAYLIGHT
TZOFFSETFROM:-0500
TZOFFSETTO:-0400
TZNAME:EDT
DTSTART:20250309T070000
END:DAYLIGHT
BEGIN:STANDARD
TZOFFSETFROM:-0400
TZOFFSETTO:-0500
TZNAME:EST
DTSTART:20251102T060000
END:STANDARD
BEGIN:DAYLIGHT
TZOFFSETFROM:-0500
TZOFFSETTO:-0400
TZNAME:EDT
DTSTART:20260308T070000
END:DAYLIGHT
BEGIN:STANDARD
TZOFFSETFROM:-0400
TZOFFSETTO:-0500
TZNAME:EST
DTSTART:20261101T060000
END:STANDARD
BEGIN:DAYLIGHT
TZOFFSETFROM:-0500
TZOFFSETTO:-0400
TZNAME:EDT
DTSTART:20270314T070000
END:DAYLIGHT
BEGIN:STANDARD
TZOFFSETFROM:-0400
TZOFFSETTO:-0500
TZNAME:EST
DTSTART:20271107T060000
END:STANDARD
END:VTIMEZONE
BEGIN:VEVENT
DTSTART;TZID=America/New_York:20260224T163000
DTEND;TZID=America/New_York:20260224T173000
DTSTAMP:20260422T192026
CREATED:20260129T180433Z
LAST-MODIFIED:20260129T180433Z
UID:9179-1771950600-1771954200@scituatevisitorscenter.com
SUMMARY:Robolox Game Development (Kids 8+)
DESCRIPTION:For kids ages 8+ \nBuild your own Roblox game with Roblox studio! This series teaches the coding fundamentals and coaches you through bringing that game to life! Whether you’re new to coding or have some experience\, you will be challenged and have fun while bringing your game to life. \nFor children ages 8 & 9\, parents must stay on site during the program\, for children 10 and over\, parents must leave contact information in case they need to be reached during the event. \nRegistration is required. Registration for the first session is registration for ALL 6 sessions. \nThis program is generously funded by the Friends of Scituate Town Library. Visit the Friends’ Bookstore on the lower level of the library! Proceeds help the Friends fund museum passes and special programs for all ages. \nFor questions\, contact Veronica at vamorim@scituate.ocln.org. Or call the library at (781) 545-8727.
URL:https://scituatevisitorscenter.com/event/robolox-game-development-kids-8/
LOCATION:Town of Scituate Library\, 85 Branch Street\, Scituate\, MA\, 02066\, United States
CATEGORIES:Educational,Kids,Workshop
ATTACH;FMTTYPE=image/jpeg:https://scituatevisitorscenter.com/wp-content/uploads/2026/01/download-4.jpg
END:VEVENT
END:VCALENDAR