BEGIN:VCALENDAR
VERSION:2.0
PRODID:-//Scituate Visitors Center - ECPv6.15.18//NONSGML v1.0//EN
CALSCALE:GREGORIAN
METHOD:PUBLISH
X-WR-CALNAME:Scituate Visitors Center
X-ORIGINAL-URL:https://scituatevisitorscenter.com
X-WR-CALDESC:Events for Scituate Visitors Center
REFRESH-INTERVAL;VALUE=DURATION:PT1H
X-Robots-Tag:noindex
X-PUBLISHED-TTL:PT1H
BEGIN:VTIMEZONE
TZID:America/New_York
BEGIN:DAYLIGHT
TZOFFSETFROM:-0500
TZOFFSETTO:-0400
TZNAME:EDT
DTSTART:20250309T070000
END:DAYLIGHT
BEGIN:STANDARD
TZOFFSETFROM:-0400
TZOFFSETTO:-0500
TZNAME:EST
DTSTART:20251102T060000
END:STANDARD
BEGIN:DAYLIGHT
TZOFFSETFROM:-0500
TZOFFSETTO:-0400
TZNAME:EDT
DTSTART:20260308T070000
END:DAYLIGHT
BEGIN:STANDARD
TZOFFSETFROM:-0400
TZOFFSETTO:-0500
TZNAME:EST
DTSTART:20261101T060000
END:STANDARD
BEGIN:DAYLIGHT
TZOFFSETFROM:-0500
TZOFFSETTO:-0400
TZNAME:EDT
DTSTART:20270314T070000
END:DAYLIGHT
BEGIN:STANDARD
TZOFFSETFROM:-0400
TZOFFSETTO:-0500
TZNAME:EST
DTSTART:20271107T060000
END:STANDARD
END:VTIMEZONE
BEGIN:VEVENT
DTSTART;TZID=America/New_York:20260304T160000
DTEND;TZID=America/New_York:20260304T170000
DTSTAMP:20260422T191917
CREATED:20260212T181518Z
LAST-MODIFIED:20260212T181518Z
UID:9252-1772640000-1772643600@scituatevisitorscenter.com
SUMMARY:Teen Taste Test: Going Green!
DESCRIPTION:For Students in Grades 5-12: \nCelebrate the season with a fun (and slightly weird!) taste-testing challenge just for teens. We’ll sample a variety of green-themed snacks—from delicious to daring—and vote on our favorites. Think pickle chips\, minty treats\, mystery flavors\, and more! Try new foods\, compare reactions with friends\, and help crown the “Best in Green.” All food will be provided. Please let us know about allergies when registering. \nOnline registration is required and will open 3 weeks before the event.  \nFor questions\, contact Kate at kjasinski@scituate.ocln.org | (781) 545-8727\, option 4. \nThis program is generously funded by the Friends of Scituate Town Library. Visit the Friends’ Bookstore on the lower level of the library! Proceeds help the Friends fund museum passes and special programs for all ages.
URL:https://scituatevisitorscenter.com/event/teen-taste-test-going-green/
LOCATION:Town of Scituate Library\, 85 Branch Street\, Scituate\, MA\, 02066\, United States
CATEGORIES:Educational,Entertainment,Kids
ATTACH;FMTTYPE=image/jpeg:https://scituatevisitorscenter.com/wp-content/uploads/2026/02/olives-2431689_150.jpg
END:VEVENT
END:VCALENDAR