BEGIN:VCALENDAR
VERSION:2.0
PRODID:-//Scituate Visitors Center - ECPv6.15.18//NONSGML v1.0//EN
CALSCALE:GREGORIAN
METHOD:PUBLISH
X-WR-CALNAME:Scituate Visitors Center
X-ORIGINAL-URL:https://scituatevisitorscenter.com
X-WR-CALDESC:Events for Scituate Visitors Center
REFRESH-INTERVAL;VALUE=DURATION:PT1H
X-Robots-Tag:noindex
X-PUBLISHED-TTL:PT1H
BEGIN:VTIMEZONE
TZID:America/New_York
BEGIN:DAYLIGHT
TZOFFSETFROM:-0500
TZOFFSETTO:-0400
TZNAME:EDT
DTSTART:20250309T070000
END:DAYLIGHT
BEGIN:STANDARD
TZOFFSETFROM:-0400
TZOFFSETTO:-0500
TZNAME:EST
DTSTART:20251102T060000
END:STANDARD
BEGIN:DAYLIGHT
TZOFFSETFROM:-0500
TZOFFSETTO:-0400
TZNAME:EDT
DTSTART:20260308T070000
END:DAYLIGHT
BEGIN:STANDARD
TZOFFSETFROM:-0400
TZOFFSETTO:-0500
TZNAME:EST
DTSTART:20261101T060000
END:STANDARD
BEGIN:DAYLIGHT
TZOFFSETFROM:-0500
TZOFFSETTO:-0400
TZNAME:EDT
DTSTART:20270314T070000
END:DAYLIGHT
BEGIN:STANDARD
TZOFFSETFROM:-0400
TZOFFSETTO:-0500
TZNAME:EST
DTSTART:20271107T060000
END:STANDARD
END:VTIMEZONE
BEGIN:VEVENT
DTSTART;TZID=America/New_York:20260404T093000
DTEND;TZID=America/New_York:20260404T100000
DTSTAMP:20260422T172145
CREATED:20260317T155317Z
LAST-MODIFIED:20260317T155713Z
UID:9447-1775295000-1775296800@scituatevisitorscenter.com
SUMMARY:31st Annual Easter Egg Hunt
DESCRIPTION:Easter Egg Hunt\nat Central Field\nCentral Park Drive\, next to Lawson Tower\nSaturday\, April 4th at 9:30 AM\nMost appropriate for children’s ages 3-6. Not a drop off\, must be\naccompanied by adult/guardian. NO REGISTRATION REQUIRED.\nBring your basket and get ready for FUN and a surprise visitor!
URL:https://scituatevisitorscenter.com/event/31st-annual-easter-egg-hunt/
LOCATION:Central Field\, Lawson Tower\, Scituate\, MA
CATEGORIES:Community,Holiday,Kids,Seasonal
ATTACH;FMTTYPE=image/jpeg:https://scituatevisitorscenter.com/wp-content/uploads/2023/03/widows-walk-egg-hunt.jpg
END:VEVENT
END:VCALENDAR