BEGIN:VCALENDAR
VERSION:2.0
PRODID:-//Scituate Visitors Center - ECPv6.15.18//NONSGML v1.0//EN
CALSCALE:GREGORIAN
METHOD:PUBLISH
X-WR-CALNAME:Scituate Visitors Center
X-ORIGINAL-URL:https://scituatevisitorscenter.com
X-WR-CALDESC:Events for Scituate Visitors Center
REFRESH-INTERVAL;VALUE=DURATION:PT1H
X-Robots-Tag:noindex
X-PUBLISHED-TTL:PT1H
BEGIN:VTIMEZONE
TZID:America/New_York
BEGIN:DAYLIGHT
TZOFFSETFROM:-0500
TZOFFSETTO:-0400
TZNAME:EDT
DTSTART:20250309T070000
END:DAYLIGHT
BEGIN:STANDARD
TZOFFSETFROM:-0400
TZOFFSETTO:-0500
TZNAME:EST
DTSTART:20251102T060000
END:STANDARD
BEGIN:DAYLIGHT
TZOFFSETFROM:-0500
TZOFFSETTO:-0400
TZNAME:EDT
DTSTART:20260308T070000
END:DAYLIGHT
BEGIN:STANDARD
TZOFFSETFROM:-0400
TZOFFSETTO:-0500
TZNAME:EST
DTSTART:20261101T060000
END:STANDARD
BEGIN:DAYLIGHT
TZOFFSETFROM:-0500
TZOFFSETTO:-0400
TZNAME:EDT
DTSTART:20270314T070000
END:DAYLIGHT
BEGIN:STANDARD
TZOFFSETFROM:-0400
TZOFFSETTO:-0500
TZNAME:EST
DTSTART:20271107T060000
END:STANDARD
END:VTIMEZONE
BEGIN:VEVENT
DTSTART;TZID=America/New_York:20260408T173000
DTEND;TZID=America/New_York:20260408T190000
DTSTAMP:20260422T165934
CREATED:20260317T160116Z
LAST-MODIFIED:20260317T160116Z
UID:9452-1775669400-1775674800@scituatevisitorscenter.com
SUMMARY:Family Fun Track Race (Ages 2-10)
DESCRIPTION:FEE: $5/child per event\nCome join us for these fun\, one-day running and track events! Specific details online!\nNonrefundable. \nFamily Fun Track Race AGES 2-10\nAll registrants will run in at least two heats based on their age group. Race lengths listed are\nsubject to change: 50M\, 100M\, 200M\, 400\, Relays and more! (Races vary per age group) \nRaces start at 6:00pm sharp\, Check in at 5:45pm\nRegistration is required. MUST REGISTER SEPARATELY FOR EACH DATE. \nsee link for more information
URL:https://scituatevisitorscenter.com/event/family-fun-track-race-ages-2-10/
LOCATION:Scituate\, MA\, Scituate\, MA\, 02066
CATEGORIES:Entertainment,Family,Kids,Sports
ATTACH;FMTTYPE=image/jpeg:https://scituatevisitorscenter.com/wp-content/uploads/2026/03/Unknown-1-1.jpeg
END:VEVENT
END:VCALENDAR