BEGIN:VCALENDAR
VERSION:2.0
PRODID:-//Scituate Visitors Center - ECPv6.15.18//NONSGML v1.0//EN
CALSCALE:GREGORIAN
METHOD:PUBLISH
X-WR-CALNAME:Scituate Visitors Center
X-ORIGINAL-URL:https://scituatevisitorscenter.com
X-WR-CALDESC:Events for Scituate Visitors Center
REFRESH-INTERVAL;VALUE=DURATION:PT1H
X-Robots-Tag:noindex
X-PUBLISHED-TTL:PT1H
BEGIN:VTIMEZONE
TZID:America/New_York
BEGIN:DAYLIGHT
TZOFFSETFROM:-0500
TZOFFSETTO:-0400
TZNAME:EDT
DTSTART:20250309T070000
END:DAYLIGHT
BEGIN:STANDARD
TZOFFSETFROM:-0400
TZOFFSETTO:-0500
TZNAME:EST
DTSTART:20251102T060000
END:STANDARD
BEGIN:DAYLIGHT
TZOFFSETFROM:-0500
TZOFFSETTO:-0400
TZNAME:EDT
DTSTART:20260308T070000
END:DAYLIGHT
BEGIN:STANDARD
TZOFFSETFROM:-0400
TZOFFSETTO:-0500
TZNAME:EST
DTSTART:20261101T060000
END:STANDARD
BEGIN:DAYLIGHT
TZOFFSETFROM:-0500
TZOFFSETTO:-0400
TZNAME:EDT
DTSTART:20270314T070000
END:DAYLIGHT
BEGIN:STANDARD
TZOFFSETFROM:-0400
TZOFFSETTO:-0500
TZNAME:EST
DTSTART:20271107T060000
END:STANDARD
END:VTIMEZONE
BEGIN:VEVENT
DTSTART;VALUE=DATE:20260420
DTEND;VALUE=DATE:20260425
DTSTAMP:20260422T152033
CREATED:20260317T160635Z
LAST-MODIFIED:20260317T160635Z
UID:9456-1776643200-1777075199@scituatevisitorscenter.com
SUMMARY:School Spring Break
DESCRIPTION:Enjoy the break and be safe!  Check out the Scituate Recreation Dept. and Town Library spring break activities
URL:https://scituatevisitorscenter.com/event/school-spring-break/
LOCATION:Scituate\, MA\, Scituate\, MA\, 02066
CATEGORIES:Holiday,Kids
ATTACH;FMTTYPE=image/jpeg:https://scituatevisitorscenter.com/wp-content/uploads/2026/03/Unknown-3.jpeg
END:VEVENT
BEGIN:VEVENT
DTSTART;TZID=America/New_York:20260422T140000
DTEND;TZID=America/New_York:20260422T153000
DTSTAMP:20260422T152033
CREATED:20260317T161055Z
LAST-MODIFIED:20260317T161055Z
UID:9463-1776866400-1776871800@scituatevisitorscenter.com
SUMMARY:Cartoon & Character Drawing (Grades 4-8)
DESCRIPTION:For Students in Grades 4-8: \nJoin local comic book artist Patrick Niebauer for a fun\, beginner-friendly drawing workshop during April vacation week! Patrick\, a Scituate resident and freelance illustrator\, has studied studio art and figure drawing at Colgate University and the Torpedo Factory in Alexandria\, Virginia\, and has trained with Comic Pro Bootcamp\, run by artists whose work appears in Marvel\, DC\, and Image Comics. \nIn this class\, kids will learn the basics of drawing cartoon characters and get tips on how to create their own. Patrick regularly creates commissioned illustrations and has shown and sold his work at events including FanExpo Boston\, Rhode Island Comic Con\, and Wicked Comic Con. \nOnline registration is required and will open 3 weeks before the event.  \nFor questions\, contact Kate at kjasinski@scituate.ocln.org | (781) 545-8727\, option 4.
URL:https://scituatevisitorscenter.com/event/cartoon-character-drawing-grades-4-8/
LOCATION:Town of Scituate Library\, 85 Branch Street\, Scituate\, MA\, 02066\, United States
CATEGORIES:Art,Educational,Entertainment,Kids
ATTACH;FMTTYPE=image/jpeg:https://scituatevisitorscenter.com/wp-content/uploads/2026/03/2026_03_13_14_17_51.jpg
END:VEVENT
BEGIN:VEVENT
DTSTART;TZID=America/New_York:20260426T090000
DTEND;TZID=America/New_York:20260426T113000
DTSTAMP:20260422T152033
CREATED:20260317T155643Z
LAST-MODIFIED:20260317T155643Z
UID:9449-1777194000-1777203000@scituatevisitorscenter.com
SUMMARY:Kids Free Bike Rodeo
DESCRIPTION:The Scituate Recreation Department & the Scituate Bicycle Committee presents…\nSUNDAY\, APRIL 26th\nSession 1: 9:00AM and Session 2: 10:00AM\n• free •\nCushing Elementary School\nBike Course Practice\, Bicycle & Helmet Fitting\,\nLearn the parts of your Bicycle\, Know Your Road Signs\,\nRules of the Road\, and Turn Signals\, and Bike Activity Tables\nThis is a family event. Parents and siblings\nGrades\nK-2\nwill remain on site. (Rain Date: Sunday 5/3)\nRegistration Required – Limited Spots\nFREE\nMay is national bike month! To celebrate\, pick up\, or download your BIKE BINGO CARD\nat the Scituate Recreation Department. Fill your card in and win a prize!
URL:https://scituatevisitorscenter.com/event/kids-free-bike-rodeo/
LOCATION:Cushing Elementary School\, Scituate
CATEGORIES:Educational,Family,Kids,Sports
ATTACH;FMTTYPE=image/jpeg:https://scituatevisitorscenter.com/wp-content/uploads/2026/03/Unknown-2.jpeg
END:VEVENT
BEGIN:VEVENT
DTSTART;TZID=America/New_York:20260427T163000
DTEND;TZID=America/New_York:20260427T173000
DTSTAMP:20260422T152033
CREATED:20260323T203839Z
LAST-MODIFIED:20260323T203839Z
UID:9527-1777307400-1777311000@scituatevisitorscenter.com
SUMMARY:Nature and Crafts Kids Club
DESCRIPTION:Join us in the greenhouse on Mondays this April for an after-school workshop where creativity grows from nature! Each week\, children will explore hands-on projects using natural and sustainable materials\, crafting with leaves\, pinecones\, clay\, seeds\, and more. \nDesigned for kids ages 5 and up\, this club encourages imagination\, connection to nature\, and mindful making. \nDrop-off friendly!
URL:https://scituatevisitorscenter.com/event/nature-and-crafts-kids-club/
LOCATION:Root Garden Center\, 405 First Parish Road\, Scituate\, MA\, 02066
CATEGORIES:Art,Entertainment,Gardening,Kids
ATTACH;FMTTYPE=image/jpeg:https://scituatevisitorscenter.com/wp-content/uploads/2026/03/images.jpeg
END:VEVENT
END:VCALENDAR