BEGIN:VCALENDAR
VERSION:2.0
PRODID:-//Scituate Visitors Center - ECPv6.15.18//NONSGML v1.0//EN
CALSCALE:GREGORIAN
METHOD:PUBLISH
X-WR-CALNAME:Scituate Visitors Center
X-ORIGINAL-URL:https://scituatevisitorscenter.com
X-WR-CALDESC:Events for Scituate Visitors Center
REFRESH-INTERVAL;VALUE=DURATION:PT1H
X-Robots-Tag:noindex
X-PUBLISHED-TTL:PT1H
BEGIN:VTIMEZONE
TZID:America/New_York
BEGIN:DAYLIGHT
TZOFFSETFROM:-0500
TZOFFSETTO:-0400
TZNAME:EDT
DTSTART:20240310T070000
END:DAYLIGHT
BEGIN:STANDARD
TZOFFSETFROM:-0400
TZOFFSETTO:-0500
TZNAME:EST
DTSTART:20241103T060000
END:STANDARD
BEGIN:DAYLIGHT
TZOFFSETFROM:-0500
TZOFFSETTO:-0400
TZNAME:EDT
DTSTART:20250309T070000
END:DAYLIGHT
BEGIN:STANDARD
TZOFFSETFROM:-0400
TZOFFSETTO:-0500
TZNAME:EST
DTSTART:20251102T060000
END:STANDARD
BEGIN:DAYLIGHT
TZOFFSETFROM:-0500
TZOFFSETTO:-0400
TZNAME:EDT
DTSTART:20260308T070000
END:DAYLIGHT
BEGIN:STANDARD
TZOFFSETFROM:-0400
TZOFFSETTO:-0500
TZNAME:EST
DTSTART:20261101T060000
END:STANDARD
END:VTIMEZONE
BEGIN:VEVENT
DTSTART;TZID=America/New_York:20250713T130000
DTEND;TZID=America/New_York:20250713T160000
DTSTAMP:20260423T231938
CREATED:20250627T140257Z
LAST-MODIFIED:20250627T140257Z
UID:8015-1752411600-1752422400@scituatevisitorscenter.com
SUMMARY:Scituate Historical Society Open House Series
DESCRIPTION:  \nExplore different sites at our Open House series!  A variety of sites will be open on each date in the series. \nThe locations open for the July Open House are: \n\nScituate Lighthouse\nLawson Tower\nStockbridge Grist Mill\nMaritime & Irish Mossing Museum – featuring Waves of History & Exploration
URL:https://scituatevisitorscenter.com/event/scituate-historical-society-open-house-series-2/
LOCATION:Scituate Lighthouse\, Lighthouse Road\, Scituate\, 02066
CATEGORIES:Cultural,Educational,Entertainment,Family,Historical,Museums
ATTACH;FMTTYPE=image/jpeg:https://scituatevisitorscenter.com/wp-content/uploads/2025/06/2025-Open-House-Poster.jpeg
ORGANIZER;CN="Scituate Historical Society":MAILTO:info@scituatehistoricalsociety.org
END:VEVENT
END:VCALENDAR