BEGIN:VCALENDAR
VERSION:2.0
PRODID:-//Scituate Visitors Center - ECPv6.15.18//NONSGML v1.0//EN
CALSCALE:GREGORIAN
METHOD:PUBLISH
X-WR-CALNAME:Scituate Visitors Center
X-ORIGINAL-URL:https://scituatevisitorscenter.com
X-WR-CALDESC:Events for Scituate Visitors Center
REFRESH-INTERVAL;VALUE=DURATION:PT1H
X-Robots-Tag:noindex
X-PUBLISHED-TTL:PT1H
BEGIN:VTIMEZONE
TZID:America/New_York
BEGIN:DAYLIGHT
TZOFFSETFROM:-0500
TZOFFSETTO:-0400
TZNAME:EDT
DTSTART:20250309T070000
END:DAYLIGHT
BEGIN:STANDARD
TZOFFSETFROM:-0400
TZOFFSETTO:-0500
TZNAME:EST
DTSTART:20251102T060000
END:STANDARD
BEGIN:DAYLIGHT
TZOFFSETFROM:-0500
TZOFFSETTO:-0400
TZNAME:EDT
DTSTART:20260308T070000
END:DAYLIGHT
BEGIN:STANDARD
TZOFFSETFROM:-0400
TZOFFSETTO:-0500
TZNAME:EST
DTSTART:20261101T060000
END:STANDARD
BEGIN:DAYLIGHT
TZOFFSETFROM:-0500
TZOFFSETTO:-0400
TZNAME:EDT
DTSTART:20270314T070000
END:DAYLIGHT
BEGIN:STANDARD
TZOFFSETFROM:-0400
TZOFFSETTO:-0500
TZNAME:EST
DTSTART:20271107T060000
END:STANDARD
END:VTIMEZONE
BEGIN:VEVENT
DTSTART;VALUE=DATE:20260502
DTEND;VALUE=DATE:20260503
DTSTAMP:20260422T202545
CREATED:20260323T200147Z
LAST-MODIFIED:20260323T200147Z
UID:9515-1777680000-1777766399@scituatevisitorscenter.com
SUMMARY:Get To Greenbush
DESCRIPTION:Come visit this vibrant village within Scituate and sample local merchant wares\, enjoy kids activities\, live music and food trucks. An event not to miss. Please park at the Greenbush MBTA parking lot and wander.
URL:https://scituatevisitorscenter.com/event/get-to-greenbush/
LOCATION:MBTA Parking Lot (Greenbush)\, 247 Driftway\, Scituate\, 02066
CATEGORIES:Community,Entertainment,Family,Food Trucks,Kids,Shopping
ATTACH;FMTTYPE=image/jpeg:https://scituatevisitorscenter.com/wp-content/uploads/2026/03/Unknown-8.jpeg
END:VEVENT
BEGIN:VEVENT
DTSTART;TZID=America/New_York:20260509T090000
DTEND;TZID=America/New_York:20260509T170000
DTSTAMP:20260422T202545
CREATED:20260407T202005Z
LAST-MODIFIED:20260407T202005Z
UID:9590-1778317200-1778346000@scituatevisitorscenter.com
SUMMARY:Peony Palooza
DESCRIPTION:Mother’s Day Weekend \nJoin Kennedy’s Country Gardens for mini-talks on growing and caring for peonies and learn the differences between varieties. Times to be announced throughout the weekend. \nNO REGISTRATION REQUIRED.
URL:https://scituatevisitorscenter.com/event/peony-palooza/
LOCATION:Kennedy’s Country Gardens\, 85 Chief Justice Cushing Highway\, Scituate\, MA\, 02066\, United States
CATEGORIES:Educational,Seasonal,Shopping,Workshop
ATTACH;FMTTYPE=image/jpeg:https://scituatevisitorscenter.com/wp-content/uploads/2026/04/peony-home-page-background-1300x1300-1.jpg
END:VEVENT
BEGIN:VEVENT
DTSTART;TZID=America/New_York:20260516T090000
DTEND;TZID=America/New_York:20260516T120000
DTSTAMP:20260422T202545
CREATED:20260418T183903Z
LAST-MODIFIED:20260418T183903Z
UID:9682-1778922000-1778932800@scituatevisitorscenter.com
SUMMARY:Scituate Garden Club’s Annual Plant Sale
DESCRIPTION:The Scituate Garden Club’s annual plant sale returns on Saturday\, May 16\, 2026\, from 9AM to 12PM at the Scituate wildflower garden located at Stockbridge and Greenfield Lane (use 108 Greenfield Lane for GSP directions). Rain or shine\, the garden will be buzzing. \nThe sale features home‑grown annuals\, perennials\, herbs\, vegetables\, and native plants. This year brings returning favorites. Acres to Grow will set up a small “barnyard” of chickens\, baby goats\, and other friendly animals. Junior Gardeners will share sunflower\, wild flower and pea seedlings\, and guide visitors through the wildflower garden the club cares for. Payment options include credit cards\, cash\, and checks.
URL:https://scituatevisitorscenter.com/event/scituate-garden-clubs-annual-plant-sale-2/
LOCATION:Scituate Wildflower Garden\, 108 Greenfield Lane\, Scituate\, MA\, 02066
CATEGORIES:Community,Farms,Gardening,Shopping
ATTACH;FMTTYPE=image/jpeg:https://scituatevisitorscenter.com/wp-content/uploads/2026/04/100-year-logo.jpeg
END:VEVENT
END:VCALENDAR