BEGIN:VCALENDAR
VERSION:2.0
PRODID:-//Scituate Visitors Center - ECPv6.15.18//NONSGML v1.0//EN
CALSCALE:GREGORIAN
METHOD:PUBLISH
X-WR-CALNAME:Scituate Visitors Center
X-ORIGINAL-URL:https://scituatevisitorscenter.com
X-WR-CALDESC:Events for Scituate Visitors Center
REFRESH-INTERVAL;VALUE=DURATION:PT1H
X-Robots-Tag:noindex
X-PUBLISHED-TTL:PT1H
BEGIN:VTIMEZONE
TZID:America/New_York
BEGIN:DAYLIGHT
TZOFFSETFROM:-0500
TZOFFSETTO:-0400
TZNAME:EDT
DTSTART:20240310T070000
END:DAYLIGHT
BEGIN:STANDARD
TZOFFSETFROM:-0400
TZOFFSETTO:-0500
TZNAME:EST
DTSTART:20241103T060000
END:STANDARD
BEGIN:DAYLIGHT
TZOFFSETFROM:-0500
TZOFFSETTO:-0400
TZNAME:EDT
DTSTART:20250309T070000
END:DAYLIGHT
BEGIN:STANDARD
TZOFFSETFROM:-0400
TZOFFSETTO:-0500
TZNAME:EST
DTSTART:20251102T060000
END:STANDARD
BEGIN:DAYLIGHT
TZOFFSETFROM:-0500
TZOFFSETTO:-0400
TZNAME:EDT
DTSTART:20260308T070000
END:DAYLIGHT
BEGIN:STANDARD
TZOFFSETFROM:-0400
TZOFFSETTO:-0500
TZNAME:EST
DTSTART:20261101T060000
END:STANDARD
END:VTIMEZONE
BEGIN:VEVENT
DTSTART;TZID=America/New_York:20250103T090000
DTEND;TZID=America/New_York:20250103T113000
DTSTAMP:20260424T205140
CREATED:20241009T192829Z
LAST-MODIFIED:20241121T151509Z
UID:6562-1735894800-1735903800@scituatevisitorscenter.com
SUMMARY:Veteran's Coffee Hour
DESCRIPTION:Join Scituate’s Veteran’s Agent\, Joshua Summers\, for the monthly gathering of Scituate veterans. No registration required. Coffee and snacks provided. Each month Josh organizes a different program and there’s plenty of time to ask questions\, get help\, or just catch up with friends. Come join in!
URL:https://scituatevisitorscenter.com/event/veterans-coffee-hour-2025-01-01/
LOCATION:Scituate Senior Center\, 333 First Parish Rd\, Scituate\, MA\, 02066
CATEGORIES:Community,Educational,Veterans
ATTACH;FMTTYPE=image/jpeg:https://scituatevisitorscenter.com/wp-content/uploads/2024/10/Unknown-6.jpeg
END:VEVENT
END:VCALENDAR