BEGIN:VCALENDAR
VERSION:2.0
PRODID:-//Scituate Visitors Center - ECPv6.15.18//NONSGML v1.0//EN
CALSCALE:GREGORIAN
METHOD:PUBLISH
X-WR-CALNAME:Scituate Visitors Center
X-ORIGINAL-URL:https://scituatevisitorscenter.com
X-WR-CALDESC:Events for Scituate Visitors Center
REFRESH-INTERVAL;VALUE=DURATION:PT1H
X-Robots-Tag:noindex
X-PUBLISHED-TTL:PT1H
BEGIN:VTIMEZONE
TZID:America/New_York
BEGIN:DAYLIGHT
TZOFFSETFROM:-0500
TZOFFSETTO:-0400
TZNAME:EDT
DTSTART:20230312T070000
END:DAYLIGHT
BEGIN:STANDARD
TZOFFSETFROM:-0400
TZOFFSETTO:-0500
TZNAME:EST
DTSTART:20231105T060000
END:STANDARD
BEGIN:DAYLIGHT
TZOFFSETFROM:-0500
TZOFFSETTO:-0400
TZNAME:EDT
DTSTART:20240310T070000
END:DAYLIGHT
BEGIN:STANDARD
TZOFFSETFROM:-0400
TZOFFSETTO:-0500
TZNAME:EST
DTSTART:20241103T060000
END:STANDARD
BEGIN:DAYLIGHT
TZOFFSETFROM:-0500
TZOFFSETTO:-0400
TZNAME:EDT
DTSTART:20250309T070000
END:DAYLIGHT
BEGIN:STANDARD
TZOFFSETFROM:-0400
TZOFFSETTO:-0500
TZNAME:EST
DTSTART:20251102T060000
END:STANDARD
END:VTIMEZONE
BEGIN:VEVENT
DTSTART;TZID=America/New_York:20240607T180000
DTEND;TZID=America/New_York:20240607T200000
DTSTAMP:20260422T073353
CREATED:20240410T205652Z
LAST-MODIFIED:20240603T144531Z
UID:5625-1717783200-1717790400@scituatevisitorscenter.com
SUMMARY:First Friday Scituate Harbor Bandstand Concert
DESCRIPTION:Grab a lawn chair and your dancing shoes and come to Cole Parkway Bandstand for a fun family event. Stroll through the Harbor and enjoy the stores late openings before heading over for a fantastic evening under the stars!
URL:https://scituatevisitorscenter.com/event/scituate-harbor-bandstand-concert/2024-06-07/
LOCATION:Scituate Harbor Gazebo\, Cole Pkwy\, Scituate\, MA\, 02066\, United States
CATEGORIES:Entertainment,Family,Live Music
ATTACH;FMTTYPE=image/jpeg:https://scituatevisitorscenter.com/wp-content/uploads/2024/04/Unknown-4.jpeg
END:VEVENT
BEGIN:VEVENT
DTSTART;TZID=America/New_York:20240608T090000
DTEND;TZID=America/New_York:20240608T120000
DTSTAMP:20260422T073353
CREATED:20240603T193737Z
LAST-MODIFIED:20240603T193737Z
UID:5827-1717837200-1717848000@scituatevisitorscenter.com
SUMMARY:Minot Beach Clean-Up Day
DESCRIPTION:Join your neighbors and friends for a community clean-up of Minot Beach. Sponsored by Mullany’s Harborside and presented by Scituate Beach Commission\, Harbor United Methodist Church and Scituate Trashed  Many hands make light work!
URL:https://scituatevisitorscenter.com/event/minot-beach-clean-up-day/
LOCATION:Minot\, MA\, Glades Road\, Scituate\, Massachusetts\, 02066
CATEGORIES:Beach,Community,Family
END:VEVENT
BEGIN:VEVENT
DTSTART;TZID=America/New_York:20240609T080000
DTEND;TZID=America/New_York:20240609T170000
DTSTAMP:20260422T073353
CREATED:20240603T194358Z
LAST-MODIFIED:20240603T194358Z
UID:5829-1717920000-1717952400@scituatevisitorscenter.com
SUMMARY:Minot Beach Yoga
DESCRIPTION:Join yogi Jen Murphy for a beach yoga flow with the sound of the ocean lapping and the seabreeze in your hair! A wonderful experience. No need to sign-up\, just bring a mat or beach towel and pay when you get there.
URL:https://scituatevisitorscenter.com/event/minot-beach-yoga/
LOCATION:Minot Beach
CATEGORIES:Beach,Community,Spirituality,Sports
END:VEVENT
BEGIN:VEVENT
DTSTART;TZID=America/New_York:20240615T180000
DTEND;TZID=America/New_York:20240615T200000
DTSTAMP:20260422T073353
CREATED:20240424T155831Z
LAST-MODIFIED:20240603T145538Z
UID:5683-1718474400-1718481600@scituatevisitorscenter.com
SUMMARY:Classic Cars in the Harbor
DESCRIPTION:Come down to the Harbor to enjoy front row viewing of classic and vintage cars!
URL:https://scituatevisitorscenter.com/event/classic-cars-in-the-harbor-4/
LOCATION:Cole Parkway Bandstand\, Cole Parkway\, Scituate\, MA\, 02066
CATEGORIES:Community,Cultural,Entertainment
ATTACH;FMTTYPE=image/jpeg:https://scituatevisitorscenter.com/wp-content/uploads/2024/04/a7f777218bf760bc8e162b235ac600e6.jpeg
END:VEVENT
BEGIN:VEVENT
DTSTART;TZID=America/New_York:20240616T100000
DTEND;TZID=America/New_York:20240616T120000
DTSTAMP:20260422T073354
CREATED:20240603T195618Z
LAST-MODIFIED:20240603T195618Z
UID:5832-1718532000-1718539200@scituatevisitorscenter.com
SUMMARY:Cars and Coffee
DESCRIPTION:Come enjoy a hot beverage and a cool car collection at Untold Brewery! Gonna be a “gas”!
URL:https://scituatevisitorscenter.com/event/cars-and-coffee/2024-06-16/
LOCATION:Untold Brewing\, 6 Old Country Way\, Scituate\, 02066
CATEGORIES:Community,Entertainment,Sports,Travel
ATTACH;FMTTYPE=image/jpeg:https://scituatevisitorscenter.com/wp-content/uploads/2024/06/447210579_987073676754056_1806295796978112228_n.jpg
ORGANIZER;CN="Untold Brewing":MAILTO:info@untoldbrewing.com
END:VEVENT
BEGIN:VEVENT
DTSTART;TZID=America/New_York:20240618T080000
DTEND;TZID=America/New_York:20240618T170000
DTSTAMP:20260422T073354
CREATED:20240618T144045Z
LAST-MODIFIED:20240618T144045Z
UID:5884-1718697600-1718730000@scituatevisitorscenter.com
SUMMARY:June Community Dinner
DESCRIPTION:Hosted monthly by St. Luke’s Episcopal Church\, all are welcome to join in a community meal. This month will be Fried Chicken\, Potato Salad\, Salad\, Rolls and Ice Cream.  If you need a ride\, call 781-545-8872.
URL:https://scituatevisitorscenter.com/event/june-community-dinner/
LOCATION:St. Luke’s Episcopal Church\, 3A and First Parish Road\, Scituate
CATEGORIES:Community,Dining,Family
ORGANIZER;CN="St. Luke's Episcopal Church":MAILTO: stlukes.scituate@gmail.com
END:VEVENT
BEGIN:VEVENT
DTSTART;TZID=America/New_York:20240621T193000
DTEND;TZID=America/New_York:20240621T210000
DTSTAMP:20260422T073354
CREATED:20240618T144257Z
LAST-MODIFIED:20240618T144257Z
UID:5887-1718998200-1719003600@scituatevisitorscenter.com
SUMMARY:Satuit Concert Band Performance
DESCRIPTION:Join Music Director Charles A. Shaffer for a wonderful evening of live music!
URL:https://scituatevisitorscenter.com/event/satuit-concert-band-performance/
LOCATION:Center for the Performing Arts at Scituate High School\, 606 Chief Justice Cushing Highway\, Scituate\, MA\, 02066\, United States
CATEGORIES:Cultural,Family,Live Music
END:VEVENT
BEGIN:VEVENT
DTSTART;TZID=America/New_York:20240623T100000
DTEND;TZID=America/New_York:20240623T120000
DTSTAMP:20260422T073354
CREATED:20240603T195618Z
LAST-MODIFIED:20240603T195618Z
UID:5834-1719136800-1719144000@scituatevisitorscenter.com
SUMMARY:Cars and Coffee
DESCRIPTION:Come enjoy a hot beverage and a cool car collection at Untold Brewery! Gonna be a “gas”!
URL:https://scituatevisitorscenter.com/event/cars-and-coffee/2024-06-23/
LOCATION:Untold Brewing\, 6 Old Country Way\, Scituate\, 02066
CATEGORIES:Community,Entertainment,Sports,Travel
ATTACH;FMTTYPE=image/jpeg:https://scituatevisitorscenter.com/wp-content/uploads/2024/06/447210579_987073676754056_1806295796978112228_n.jpg
ORGANIZER;CN="Untold Brewing":MAILTO:info@untoldbrewing.com
END:VEVENT
BEGIN:VEVENT
DTSTART;TZID=America/New_York:20240629T080000
DTEND;TZID=America/New_York:20240629T170000
DTSTAMP:20260422T073354
CREATED:20240625T204721Z
LAST-MODIFIED:20240625T204721Z
UID:5910-1719648000-1719680400@scituatevisitorscenter.com
SUMMARY:Minot Beach Yoga
DESCRIPTION:Join local yogi Jen Murphy for a blissful morning on the beach. No need to register! Just grab a beach towel or yoga mat\, a smile\, and come down. $15 per person venmo or cash.
URL:https://scituatevisitorscenter.com/event/minot-beach-yoga-2/
LOCATION:Minot Beach
CATEGORIES:Beach,Community,Spirituality,Sports
ORGANIZER;CN="Jen Murphy Yoga":MAILTO:www.jenmurphyyoga.com
END:VEVENT
END:VCALENDAR