BEGIN:VCALENDAR
VERSION:2.0
PRODID:-//Scituate Visitors Center - ECPv6.15.18//NONSGML v1.0//EN
CALSCALE:GREGORIAN
METHOD:PUBLISH
X-WR-CALNAME:Scituate Visitors Center
X-ORIGINAL-URL:https://scituatevisitorscenter.com
X-WR-CALDESC:Events for Scituate Visitors Center
REFRESH-INTERVAL;VALUE=DURATION:PT1H
X-Robots-Tag:noindex
X-PUBLISHED-TTL:PT1H
BEGIN:VTIMEZONE
TZID:America/New_York
BEGIN:DAYLIGHT
TZOFFSETFROM:-0500
TZOFFSETTO:-0400
TZNAME:EDT
DTSTART:20220313T070000
END:DAYLIGHT
BEGIN:STANDARD
TZOFFSETFROM:-0400
TZOFFSETTO:-0500
TZNAME:EST
DTSTART:20221106T060000
END:STANDARD
BEGIN:DAYLIGHT
TZOFFSETFROM:-0500
TZOFFSETTO:-0400
TZNAME:EDT
DTSTART:20230312T070000
END:DAYLIGHT
BEGIN:STANDARD
TZOFFSETFROM:-0400
TZOFFSETTO:-0500
TZNAME:EST
DTSTART:20231105T060000
END:STANDARD
BEGIN:DAYLIGHT
TZOFFSETFROM:-0500
TZOFFSETTO:-0400
TZNAME:EDT
DTSTART:20240310T070000
END:DAYLIGHT
BEGIN:STANDARD
TZOFFSETFROM:-0400
TZOFFSETTO:-0500
TZNAME:EST
DTSTART:20241103T060000
END:STANDARD
END:VTIMEZONE
BEGIN:VEVENT
DTSTART;TZID=America/New_York:20230323T180000
DTEND;TZID=America/New_York:20230323T193000
DTSTAMP:20260419T092100
CREATED:20230301T185002Z
LAST-MODIFIED:20230303T195506Z
UID:3634-1679594400-1679599800@scituatevisitorscenter.com
SUMMARY:West Cork Irish Whiskey Dinner sponsored by the Mill Wharf & The West Cork Sister City
DESCRIPTION:Enjoy a wonderful evening of a special pairing of food & drink\, featuring 4 West Cork whiskeys\, while learning more about Scituate Irish organizations.
URL:https://scituatevisitorscenter.com/event/west-cork-irish-whiskey-dinner-sponsored-by-the-mill-wharf-the-west-cork-sister-city/
LOCATION:Mill Wharf Restaurant\, 23 Mill Wharf Plaza\, Scituate\, 02066
CATEGORIES:Cultural
END:VEVENT
END:VCALENDAR