BEGIN:VCALENDAR
VERSION:2.0
PRODID:-//Scituate Visitors Center - ECPv6.15.18//NONSGML v1.0//EN
CALSCALE:GREGORIAN
METHOD:PUBLISH
X-WR-CALNAME:Scituate Visitors Center
X-ORIGINAL-URL:https://scituatevisitorscenter.com
X-WR-CALDESC:Events for Scituate Visitors Center
REFRESH-INTERVAL;VALUE=DURATION:PT1H
X-Robots-Tag:noindex
X-PUBLISHED-TTL:PT1H
BEGIN:VTIMEZONE
TZID:America/New_York
BEGIN:DAYLIGHT
TZOFFSETFROM:-0500
TZOFFSETTO:-0400
TZNAME:EDT
DTSTART:20220313T070000
END:DAYLIGHT
BEGIN:STANDARD
TZOFFSETFROM:-0400
TZOFFSETTO:-0500
TZNAME:EST
DTSTART:20221106T060000
END:STANDARD
BEGIN:DAYLIGHT
TZOFFSETFROM:-0500
TZOFFSETTO:-0400
TZNAME:EDT
DTSTART:20230312T070000
END:DAYLIGHT
BEGIN:STANDARD
TZOFFSETFROM:-0400
TZOFFSETTO:-0500
TZNAME:EST
DTSTART:20231105T060000
END:STANDARD
BEGIN:DAYLIGHT
TZOFFSETFROM:-0500
TZOFFSETTO:-0400
TZNAME:EDT
DTSTART:20240310T070000
END:DAYLIGHT
BEGIN:STANDARD
TZOFFSETFROM:-0400
TZOFFSETTO:-0500
TZNAME:EST
DTSTART:20241103T060000
END:STANDARD
END:VTIMEZONE
BEGIN:VEVENT
DTSTART;TZID=America/New_York:20230825T090000
DTEND;TZID=America/New_York:20230825T113000
DTSTAMP:20260424T231414
CREATED:20230821T154003Z
LAST-MODIFIED:20230821T154003Z
UID:4746-1692954000-1692963000@scituatevisitorscenter.com
SUMMARY:Touch a Truck Day!
DESCRIPTION:Bring the kids down to Scituate Town Hall to see fire trucks and other heavy equipment. A very popular free event hosted by our town employees for the community.
URL:https://scituatevisitorscenter.com/event/touch-a-truck-day/
LOCATION:Scituate Town Hall\, 600 Chief Justice Cushing Highway\, Scituate\, MA\, 02066
CATEGORIES:Family
GEO:42.1975° N;70.7684° W
X-APPLE-STRUCTURED-LOCATION;VALUE=URI;X-ADDRESS=Scituate Town Hall 600 Chief Justice Cushing Highway Scituate MA 02066;X-APPLE-RADIUS=500;X-TITLE=600 Chief Justice Cushing Highway:geo:70.7684° W,42.1975° N
END:VEVENT
END:VCALENDAR